BEGIN:VCALENDAR
VERSION:2.0
PRODID:-//wp-events-plugin.com//7.2.3.1//EN
TZID:America/New_York
X-WR-TIMEZONE:America/New_York
BEGIN:VEVENT
UID:516@breathemiami.us
DTSTART;TZID=America/New_York:20240614T100000
DTEND;TZID=America/New_York:20240614T160000
DTSTAMP:20240531T101250Z
URL:https://breathemiami.us/events/introduction-to-adlerian-play-therapy/
SUMMARY:Introduction to Adlerian Play Therapy
DESCRIPTION:In the realm of Adlerian play therapy\, therapists delve into t
 he foundational principles of Alfred Adler’s Individual Psychology to un
 derstand and navigate a child’s world. Through the use of toys\, art\, p
 lay material\, and metacommunication\, therapists establish connections an
 d communicate with children in a meaningful way.\n\nThe process involves c
 o-creating a relationship with the child through play\, fostering an envir
 onment where exploration of the child’s thoughts\, emotions\, and behavi
 ors can occur. This exploration aids in gaining insight into patterns of b
 ehavior\, feelings\, and thoughts\, and encourages the child to consider m
 aking changes to any patterns that may be detrimental.\n\nFollowing this t
 raining\, participants will acquire a comprehensive understanding of Adler
 ian theory\, enabling them to:\n\n 	List and elucidate the four basic conc
 epts of Adlerian theory.\n 	Describe each of the four phases of Adlerian P
 lay Therapy.\n 	Define metacommunication within the context of Adlerian Pl
 ay Therapy.\n 	Demonstrate the application of encouragement techniques in 
 Adlerian Play Therapy.\n 	Identify and describe the Crucial C's\, fundamen
 tal principles within Adlerian Play Therapy.\n 	Familiarize themselves wit
 h the various Personality Profiles.\n 	Define the concept of lifestyle and
  its relevance within Adlerian Play Therapy.\n\nThis training equips parti
 cipants with the knowledge and skills necessary to effectively apply Adler
 ian principles in their practice\, fostering therapeutic relationships tha
 t facilitate growth\, insight\, and positive change in children.\n\nGET TI
 CKETS\n
ATTACH;FMTTYPE=image/jpeg:https://breathemiami.us/wp-content/uploads/2024/
 05/Introduction-to-Adlerian-Play-Therapy.jpg
LOCATION:12300 S Shore Blvd\, 12300 South Shore Boulevard Suite 222 Welling
 ton\, Miami\, Florida\, 33414\,  FL \, United States
X-APPLE-STRUCTURED-LOCATION;VALUE=URI;X-ADDRESS=12300 South Shore Boulevard
  Suite 222 Wellington\, Miami\, Florida\, 33414\,  FL \, United States;X-A
 PPLE-RADIUS=100;X-TITLE=12300 S Shore Blvd:geo:0,0
END:VEVENT
BEGIN:VTIMEZONE
TZID:America/New_York
X-LIC-LOCATION:America/New_York
BEGIN:DAYLIGHT
DTSTART:20240310T030000
TZOFFSETFROM:-0500
TZOFFSETTO:-0400
TZNAME:EDT
END:DAYLIGHT
END:VTIMEZONE
END:VCALENDAR