BEGIN:VCALENDAR
VERSION:2.0
PRODID:-//wp-events-plugin.com//7.2.3.1//EN
TZID:America/New_York
X-WR-TIMEZONE:America/New_York
BEGIN:VEVENT
UID:561@breathemiami.us
DTSTART;TZID=America/New_York:20240727T103000
DTEND;TZID=America/New_York:20240727T133000
DTSTAMP:20240623T184452Z
URL:https://breathemiami.us/events/intro-to-mantra-practice-with-komal-dad
 lani/
SUMMARY:Intro to Māntra Practice with Komal Dadlani
DESCRIPTION:Discover the transformative power of māntras with Komal Dadlan
 i in this introductory workshop. Māntras are vibratory tools that transce
 nd mere words\, invoking profound experiences and mental states. Rooted in
  ancient wisdom\, they have the potential to shift thought patterns and cu
 ltivate a more centered mind\, as described in Patanjali’s Yoga Sutras.\
 n\nKey Concepts:\n\n 	Vibratory Tools: Māntras are invoked mentally or ve
 rbally to create vibrational effects that transcend their literal meanings
 \, fostering deep experiences rather than intellectual understanding.\n 	T
 ransformation of Thought: By breaking entrenched thought patterns\, māntr
 as facilitate new perspectives and mental clarity. Different types of mān
 tras—such as those promoting courage\, resilience\, forgiveness\, and ac
 ceptance—address specific aspects of the psyche.\n 	Accessible Practice:
  Māntras offer a unique advantage in overcoming distractions and doubts. 
 They can benefit individuals regardless of their concentration levels\, ma
 king them particularly effective in managing depression and anxiety.\n\nWo
 rkshop Details: Join Komal Dadlani\, known as @komi_yogi\, for an explorat
 ion into Māntra Japa Theory. Participants will learn how to select and ef
 fectively use a māntra\, guided by essential principles for establishing 
 a consistent practice. This workshop is ideal for beginners seeking to har
 ness the therapeutic and spiritual potential of māntras in their daily li
 ves.\n\nBenefits of Attending:\n\n 	Practical Guidance: Gain insights into
  the theory and application of māntras\, ensuring you derive maximum bene
 fit from your practice.\n 	Empowerment: Learn how māntras can empower you
  to navigate life’s challenges with clarity and resilience.\n 	Community
  Support: Connect with like-minded individuals on a journey of personal gr
 owth and spiritual exploration.\n\nWho Should Attend: This workshop welcom
 es anyone interested in exploring māntras as a tool for mental clarity\, 
 emotional well-being\, and spiritual growth. Whether you're new to māntra
  practice or seeking to deepen your understanding\, Komal Dadlani’s guid
 ance promises to illuminate the path forward.\n\nJoin us for an enlighteni
 ng journey into the transformative world of māntras. Together\, let’s h
 arness their power to cultivate peace\, resilience\, and joy in our lives.
 \n\nGET TICKETS\n
ATTACH;FMTTYPE=image/jpeg:https://breathemiami.us/wp-content/uploads/2024/
 06/Intro-to-Mantra-Practice-with-Komal-Dadlani.jpg
CATEGORIES:Mindfulness Events,Wellness Events
LOCATION:Miami Yoga Garage\, 1940 NW Miami Ct Miami\, Miami\, Florida\, 331
 36\,  FL \, United States
X-APPLE-STRUCTURED-LOCATION;VALUE=URI;X-ADDRESS=1940 NW Miami Ct Miami\, Mi
 ami\, Florida\, 33136\,  FL \, United States;X-APPLE-RADIUS=100;X-TITLE=Mi
 ami Yoga Garage:geo:0,0
END:VEVENT
BEGIN:VTIMEZONE
TZID:America/New_York
X-LIC-LOCATION:America/New_York
BEGIN:DAYLIGHT
DTSTART:20240310T030000
TZOFFSETFROM:-0500
TZOFFSETTO:-0400
TZNAME:EDT
END:DAYLIGHT
END:VTIMEZONE
END:VCALENDAR