BEGIN:VCALENDAR
VERSION:2.0
PRODID:-//wp-events-plugin.com//7.2.3.1//EN
TZID:America/New_York
X-WR-TIMEZONE:America/New_York
BEGIN:VEVENT
UID:95@breathemiami.us
DTSTART;TZID=America/New_York:20231023T183000
DTEND;TZID=America/New_York:20231023T193000
DTSTAMP:20240218T005729Z
URL:https://breathemiami.us/events/intro-to-drumming-program-with-jared-bi
 strong-2023-10-23/
SUMMARY:Intro to Drumming Program with Jared Bistrong
DESCRIPTION:Learn the basics of hand drumming while tapping into the powerf
 ul meditative side of drumming for wellness. Join this incredible communit
 y.\nJoin Jared Bistrong of the Miami Sound Institute for a NEW 6-Week intr
 oduction to hand drumming program starting September 11th. Participants le
 arn the basics of drumming. We focus mainly on learning to play the Djembe
  drum\, but also explore a variety of aspects of percussion instruments.\n
 \nThis class helps students develop a powerful cultivation practice around
  drumming that nurtures a personal meditation and wellness practice. You w
 ill learn the history of different drums and percussion instruments\, spec
 ific techniques and exercises for each instrument\, and a variety of tradi
 tional and non-traditional rhythms from around the world. You'll also natu
 rally pick up the do's and don't's of drumming etiquette.\n\nBy joining th
 is powerful drumming community\, you will also have opportunities to play 
 at live wellness &amp\; music events with the South Beach Sound Healing Or
 chestra.\n\nNo prior experience is necessary\, however\, participants must
  bring their own hand drum. Jared can help you find and purchase a drum pr
 ior to the start of class.\n\nThis initial program lasts for 6 weeks. Once
  you have completed it\, you can continue coming to classes at a discounte
 d drop-in rate $35.\n\n[optional] Drop into a session for $50. Modern ŌM
  Members pay $40 per drop-in.\n\n&nbsp\;\n\nGET TICKETS\n\n&nbsp\;\nWhen:\
 nMondays\, 6:30 - 7:30pm. Check-in begins at 6:15pm. Please arrive on time
 .\nWho:\nA Miami native\, Jared Bistrong is the director of the Miami Soun
 d Institute &amp\; The South Beach Sound Healing Orchestra. His sound heal
 ing and drum performances have been featured all over the world. www.jared
 bistrong.com.\nBring:\nA drum. Students need to bring their own drum. Jare
 d will have sample drums for the first class and can help facilitate findi
 ng a drum.\nParking:\nThere is metered parking alongside the streets of Up
 per Buena Vista on NE 2nd Avenue as well as NE 50th Terrace. Do NOT park i
 n residential zone - they do tow.\nTickets:\nIf you are a beginner\, we su
 ggest you join the rolling 6 session program . After completing the 6-pack
 \, your drop-in rate is reduced. If you are an experienced drummer\, there
  is a drop-in (single session) ticket available.\nExclusive Rates for Memb
 ers:\nClick to explore the benefits and join a plan.\n\n10% off this sessi
 on with ŌMIE PLAN ($49 per year)\n10% off this session with PRACTICE PLAN
  ($99 per month)\nThis session is included with ACCESS PLAN ($199 per mont
 h)\nMindful Miles™️:\nThis session is worth ❶ Mindful Mile (MM) --&g
 t\; get rewarded for your spiritual practice. All Members are enrolled int
 o our “frequent flier” program for our Miami events.\n\n 	Every 10MM y
 ou earn\, receive a reward to celebrate your practice\n 	Every 25MM you ea
 rn\, receive a MM status upgrade\, which comes with valuable perks\n\nOnli
 ne Resources:\nIf you cannot join us in person\, we have the following onl
 ine resources available.\n\n 	Modern Medi Club - a friendly donation-based
  online meditation studio with classes daily at 8am\, 10am\, and 8pm. This
  online studio is FREE to join and can be joined separately from Miami pla
 ns.\n 	Cushion Crawl On Demand - 500 videos that were recorded over a peri
 od of 3 years by 120+ world-class facilitators. Access to this Content Lib
 rary is given with all Miami plans.\n\nFollow us: Instagram | TikTok | Mia
 mi Telegram\nABOUT MODERN ŌM\nModern ŌM has been connecting community t
 o world-class spiritual wellness programs since 2016. Our offerings includ
 e 30+ Miami event monthly\, retreats\, trainings\, online meditations via 
 the Modern Medi Club\, and branded merchandise.\n\nConsider us your resour
 ce for spiritual wellness. We support an ever-evolving community of entrep
 reneurs\, professionals\, and creatives that prioritize their spiritual we
 ll-being. Join us in Miami and beyond.\nCOMMUNITY PRAISE\n“I loved every
 thing about the Cushion Crawl. Would definitely do it again!” - Fiorella
 \n\n“You can really tell Modern ŌM truly truly cares about its communit
 y and the conscious evolution of its members. Thank you!” - Alessandra\n
 \n“An incredible event and one of the best investments in 'Self' ever ma
 de.” - Lane\n\nJoin us for this incredible journey inward with conscious
  community.\n\n[embed]https://youtu.be/9AaHHV3ga2U[/embed]\n\n\n\n
ATTACH;FMTTYPE=image/jpeg:https://breathemiami.us/wp-content/uploads/2023/
 09/intro-to-drumming-program-with-jared-bistrong-featured.jpeg
CATEGORIES:Mindfulness Events,Things To Do,Wellness Events
LOCATION:Modern ŌM Bungalow\, 5020 Northeast 2nd Avenue\, Miami\, FL\, 331
 37\, United States
X-APPLE-STRUCTURED-LOCATION;VALUE=URI;X-ADDRESS=5020 Northeast 2nd Avenue\,
  Miami\, FL\, 33137\, United States;X-APPLE-RADIUS=100;X-TITLE=Modern ŌM 
 Bungalow:geo:0,0
END:VEVENT
BEGIN:VTIMEZONE
TZID:America/New_York
X-LIC-LOCATION:America/New_York
BEGIN:DAYLIGHT
DTSTART:20230312T030000
TZOFFSETFROM:-0500
TZOFFSETTO:-0400
TZNAME:EDT
END:DAYLIGHT
END:VTIMEZONE
END:VCALENDAR