BEGIN:VCALENDAR
VERSION:2.0
PRODID:-//wp-events-plugin.com//7.2.3.1//EN
TZID:America/New_York
X-WR-TIMEZONE:America/New_York
BEGIN:VEVENT
UID:798@breathemiami.us
DTSTART;TZID=America/New_York:20240914T113000
DTEND;TZID=America/New_York:20240914T133000
DTSTAMP:20240827T071230Z
URL:https://breathemiami.us/events/intimacy-activation-for-community-heali
 ng/
SUMMARY:Intimacy Activation for Community Healing
DESCRIPTION:LeoRising invites you to an immersive somatic ritual designed t
 o deepen communication and connection within the community. This transform
 ative experience aims to enhance each participant's ability to sense safet
 y\, validity\, and purpose in any space they inhabit.\n\nInspired by the w
 isdom of James Baldwin\, who famously said\, "Love takes off masks that we
  fear we cannot live without and know we cannot live within\," this gather
 ing encourages participants to move beyond the masks they wear in daily li
 fe. In a supportive and safe environment\, the group will explore and witn
 ess each other in their most authentic selves.\n\nThis healing immersion i
 ncorporates powerful techniques rooted in LeoRising's Living pedagogy\, in
 cluding auric awareness\, empathic listening\, clair-assurance\, conscious
  relating\, viewpoints\, and energetic touch. These practices are inspired
  by LeoRising's extensive background in ensemble group training in Physica
 l Theatre\, mediumship\, and the study of energetic anatomy through yoga a
 nd meditation.\n\nLeoRising Scott\, a Spiritualist\, Actor\, Writer\, and 
 Yogi\, believes that reconnecting with ancestral self-practices unlocks th
 e vibrant potential of the human experience. Their teachings draw on ancie
 nt and adaptable methods\, including yoga asanas\, indigenous breath and v
 oice work\, performing arts\, and meditation. Through these modalities\, L
 eoRising fosters a profound sense of self-love and encourages the cultivat
 ion of communal harmony.\n\nThis event is an opportunity to tap into the p
 ower of collective healing\, where participants can experience the depth o
 f human connection and leave with tools to enhance their interactions with
 in their communities. Join LeoRising in this journey toward deeper intimac
 y\, authentic expression\, and communal well-being.\n\nGET TICKETS\n
ATTACH;FMTTYPE=image/jpeg:https://breathemiami.us/wp-content/uploads/2024/
 08/Intimacy-Activation-for-Community-Healing.jpg
CATEGORIES:Mindfulness Events,Things To Do,Wellness Events
LOCATION:Miami Yoga Garage\, 1940 NW Miami Ct Miami\, Miami\, FL\, 33136\, 
 Florida\, United States
X-APPLE-STRUCTURED-LOCATION;VALUE=URI;X-ADDRESS=1940 NW Miami Ct Miami\, Mi
 ami\, FL\, 33136\, Florida\, United States;X-APPLE-RADIUS=100;X-TITLE=Miam
 i Yoga Garage:geo:0,0
END:VEVENT
BEGIN:VTIMEZONE
TZID:America/New_York
X-LIC-LOCATION:America/New_York
BEGIN:DAYLIGHT
DTSTART:20240310T030000
TZOFFSETFROM:-0500
TZOFFSETTO:-0400
TZNAME:EDT
END:DAYLIGHT
END:VTIMEZONE
END:VCALENDAR