BEGIN:VCALENDAR
VERSION:2.0
PRODID:-//wp-events-plugin.com//7.2.3.1//EN
TZID:America/New_York
X-WR-TIMEZONE:America/New_York
BEGIN:VEVENT
UID:1262@breathemiami.us
DTSTART;TZID=America/New_York:20250308T111100
DTEND;TZID=America/New_York:20250308T121200
DTSTAMP:20250216T181523Z
URL:https://breathemiami.us/events/intentional-slow-flow-yoga-in-the-park/
SUMMARY:Intentional Slow Flow: Yoga in the Park
DESCRIPTION:Experience a refreshing and mindful yoga session set against th
 e peaceful backdrop of nature with Yoga in the Park: Intentional Slow Flow
 . Held every Saturday at 11:11 AM\, this outdoor gathering offers an oppor
 tunity to unwind\, stretch\, and cultivate inner peace while embracing the
  beauty of the natural surroundings.\nThis session welcomes individuals of
  all experience levels—from beginners to seasoned yogis—in a judgment-
 free\, supportive environment. Participants will be guided through a serie
 s of gentle yoga poses and breathing exercises\, designed to enhance flexi
 bility\, balance\, and overall well-being. Modifications will be offered t
 o accommodate different abilities\, ensuring a comfortable and fulfilling 
 practice for all.\n\nA Transformative Experience\nBeyond physical movement
 \, this class is designed to nurture both the mind and spirit. At the conc
 lusion of the session\, attendees will engage in a meaningful ritual—cho
 osing and reading affirmation cards together—to set a positive and inten
 tional tone for the weekend ahead. This simple yet powerful practice encou
 rages gratitude\, self-care\, and mindfulness.\nAs participants flow throu
 gh the session\, they will be surrounded by fresh air\, the warmth of the 
 sun\, and the tranquil sounds of nature\, creating an immersive and rejuve
 nating experience. This is more than just a yoga class—it is a chance to
  connect with like-minded individuals\, build a sense of community\, and l
 eave feeling energized\, inspired\, and refreshed.\n\nEvent Details\n\n 	
 📍 Location: Local park (exact location provided upon registration)\n 	
 ⏳ Duration: 60 minutes\n 	🧘 Who Can Join? Open to all experience leve
 ls\, with modifications available\n 	🎟 What to Bring? A yoga mat and a 
 large towel/blanket to place underneath\n 	🚗 Parking: Plenty of free pa
 rking available at the park\n\nJoin Us for a Magical Morning!\nTake time f
 or yourself this weekend—honor your body\, refresh your mind\, and embra
 ce the power of intentional movement. Whether you're looking to deepen you
 r practice or simply enjoy a moment of serenity in nature\, this class is 
 for you.\n🌿 Breathe\, move\, and flow with us in the most magical park
 —your journey to wellness starts here!\n\n\nGET TICKETS\n
ATTACH;FMTTYPE=image/jpeg:https://breathemiami.us/wp-content/uploads/2025/
 02/Yoga-in-the-Park.jpg
CATEGORIES:Featured Events,Yoga Events
LOCATION:Colee Hammock Park\, 1500 Brickell Drive \, Fort Lauderdale\, Flor
 ida\, 33304\, FL\, United States
X-APPLE-STRUCTURED-LOCATION;VALUE=URI;X-ADDRESS=1500 Brickell Drive \, Fort
  Lauderdale\, Florida\, 33304\, FL\, United States;X-APPLE-RADIUS=100;X-TI
 TLE=Colee Hammock Park:geo:0,0
END:VEVENT
BEGIN:VTIMEZONE
TZID:America/New_York
X-LIC-LOCATION:America/New_York
BEGIN:STANDARD
DTSTART:20241103T010000
TZOFFSETFROM:-0400
TZOFFSETTO:-0500
TZNAME:EST
END:STANDARD
END:VTIMEZONE
END:VCALENDAR