BEGIN:VCALENDAR
VERSION:2.0
PRODID:-//wp-events-plugin.com//7.2.3.1//EN
TZID:America/New_York
X-WR-TIMEZONE:America/New_York
BEGIN:VEVENT
UID:954@breathemiami.us
DTSTART;TZID=America/New_York:20241016T183000
DTEND;TZID=America/New_York:20241016T213000
DTSTAMP:20241002T164652Z
URL:https://breathemiami.us/events/infant-bls-cpr-and-aed-class-in-miami/
SUMMARY:Infant BLS CPR and AED Class in Miami
DESCRIPTION:Gain life-saving skills with our hands-on\, in-person Infant BL
 S (Basic Life Support) CPR and AED class\, designed to empower participant
 s with the knowledge to respond effectively in critical situations. Led by
  expert instructors certified by the American Heart Association (AHA)\, th
 is course offers comprehensive training on infant-specific CPR and AED tec
 hniques\, ensuring you feel confident and prepared in an emergency.\n\nKey
  Features Include:\n\n 	Practical\, scenario-based training that mirrors r
 eal-life emergencies\n 	Same-day AHA CPR certification upon completion\n 	
 Focused instruction on infant life-saving techniques\, including proper CP
 R compressions and AED usage\n\nThis class is ideal for parents\, caregive
 rs\, and anyone seeking to enhance their emergency response skills. Whethe
 r you're a first-time parent or a professional responsible for infant care
 \, this course will equip you with essential tools to potentially save a l
 ife.\n\nDon't miss out on this critical training—visit www.cprmiami.org 
 for more information and to register.
ATTACH;FMTTYPE=image/jpeg:https://breathemiami.us/wp-content/uploads/2024/
 10/Infant-BLS-CPR-and-AED-Class-in-Miami.jpg
CATEGORIES:Wellness Events
LOCATION:CPR Certification Miami\, 990 Biscayne Blvd\, 502 Miami\, Florida\
 , 33132\, FL\, United States
X-APPLE-STRUCTURED-LOCATION;VALUE=URI;X-ADDRESS=990 Biscayne Blvd\, 502 Mia
 mi\, Florida\, 33132\, FL\, United States;X-APPLE-RADIUS=100;X-TITLE=CPR C
 ertification Miami:geo:0,0
END:VEVENT
BEGIN:VTIMEZONE
TZID:America/New_York
X-LIC-LOCATION:America/New_York
BEGIN:DAYLIGHT
DTSTART:20240310T030000
TZOFFSETFROM:-0500
TZOFFSETTO:-0400
TZNAME:EDT
END:DAYLIGHT
END:VTIMEZONE
END:VCALENDAR