BEGIN:VCALENDAR
VERSION:2.0
PRODID:-//wp-events-plugin.com//7.2.3.1//EN
TZID:America/New_York
X-WR-TIMEZONE:America/New_York
BEGIN:VEVENT
UID:690@breathemiami.us
DTSTART;TZID=America/New_York:20240824T150000
DTEND;TZID=America/New_York:20240824T200000
DTSTAMP:20240805T171211Z
URL:https://breathemiami.us/events/indie-con-24/
SUMMARY:INDIE CON '24
DESCRIPTION:Immerse yourself in a vibrant world of indie music\, art\, and 
 culture at INDIE CON '24! Join fellow enthusiasts on Saturday\, August 24\
 , 2024\, starting at 3:00 PM at Exchange Miami\, located at 1532 Washingto
 n Ave. Prepare for a day filled with creative energy and independent spiri
 t.\nEvent Highlights:\nDiscover New Talent: Engage with a diverse lineup o
 f indie musicians and artists showcasing their unique talents. From up-and
 -coming bands to visionary artists\, there’s something to captivate ever
 y indie aficionado.\n\nMeet Fellow Enthusiasts: Connect with like-minded i
 ndividuals who share a passion for independent creativity. Whether you're 
 an artist\, a fan\, or someone in the entertainment industry\, this is the
  perfect opportunity to network and build lasting connections.\n\nSupport 
 Local Artists: Show your support for the local indie scene by exploring an
 d purchasing unique art pieces\, music\, and merchandise. Your participati
 on helps to foster and sustain the independent creative community.\n\nExci
 ting Activities: Enjoy a variety of engaging activities throughout the day
 \, including live performances\, art installations\, interactive workshops
 \, and panel discussions featuring special guests from the indie world.\n\
 nSpecial Guests: Look forward to appearances and insights from influential
  figures in the indie community\, offering inspiration and knowledge to he
 lp you on your creative journey.\nWho Should Attend:\n\n 	Music Lovers: Di
 scover new sounds and support independent musicians.\n 	Artists and Creati
 ves: Showcase your work\, collaborate with others\, and gain exposure.\n 	
 Influencers and Media Professionals: Network with key players in the indie
  scene and create compelling content.\n 	Fans of Indie Culture: Immerse yo
 urself in a day dedicated to the spirit of independence and creativity.\n\
 nDon’t Miss Out:\nMark your calendars and get ready for a day of indie m
 usic\, art\, and community at INDIE CON '24. Whether you're looking to dis
 cover new talent\, meet fellow creatives\, or simply enjoy the vibrant atm
 osphere\, this event promises an unforgettable experience. Join us and be 
 part of the indie revolution!\n\nGET TICKETS\n
ATTACH;FMTTYPE=image/jpeg:https://breathemiami.us/wp-content/uploads/2024/
 08/INDIE-CON-24.jpg
CATEGORIES:Mindfulness Events,Things To Do,Wellness Events
LOCATION:1532 Washington Ave\, 1532 Washington Avenue Miami Beach\, Miami\,
  Florida\, 33139\,  FL \, United States
X-APPLE-STRUCTURED-LOCATION;VALUE=URI;X-ADDRESS=1532 Washington Avenue Miam
 i Beach\, Miami\, Florida\, 33139\,  FL \, United States;X-APPLE-RADIUS=10
 0;X-TITLE=1532 Washington Ave:geo:0,0
END:VEVENT
BEGIN:VTIMEZONE
TZID:America/New_York
X-LIC-LOCATION:America/New_York
BEGIN:DAYLIGHT
DTSTART:20240310T030000
TZOFFSETFROM:-0500
TZOFFSETTO:-0400
TZNAME:EDT
END:DAYLIGHT
END:VTIMEZONE
END:VCALENDAR