BEGIN:VCALENDAR
VERSION:2.0
PRODID:-//wp-events-plugin.com//7.2.3.1//EN
TZID:America/New_York
X-WR-TIMEZONE:America/New_York
BEGIN:VEVENT
UID:1103@breathemiami.us
DTSTART;TZID=America/New_York:20241102T090000
DTEND;TZID=America/New_York:20241102T110000
DTSTAMP:20241015T180238Z
URL:https://breathemiami.us/events/in-person-mlc-saturday-ritual-ashtanga-
 yoga-led-full-primary-series-class-2/
SUMMARY:In-Person MLC Saturday Ritual: Ashtanga Yoga Led Full Primary Serie
 s Class
DESCRIPTION:The In-Person MLC Saturday Ritual offers participants a compreh
 ensive immersion into the world of Ashtanga Yoga. This class delivers a tr
 ue Ashtanga experience\, where postures are seamlessly linked in a dynamic
  and steady sequence\, deepening the connection between mind\, body\, and 
 breath.\n\nLed by skilled instructors\, the session emphasizes stamina\, s
 trength\, and flexibility\, all woven into a holistic meditation practice.
  With minimal verbal instruction\, practitioners will engage in traditiona
 l Sanskrit counting\, ensuring a genuine Ashtanga experience that respects
  its roots in the original Vinyasa method. This approach not only enhances
  physical capabilities but also promotes a meditative state\, allowing ind
 ividuals to explore their inner landscapes.\n\nFollowing the rigorous prac
 tice\, participants are invited to join a brief discussion or meditation\,
  providing a moment for reflection and connection with fellow practitioner
 s. This enriching opportunity fosters a sense of community within the MLC 
 family\, encouraging individuals to deepen their practice and enhance thei
 r well-being.\n\nThis Saturday ritual is not to be missed for those lookin
 g to immerse themselves in the transformative power of Ashtanga Yoga while
  practicing alongside a supportive community!\n\nGET TICKETS\n
ATTACH;FMTTYPE=image/jpeg:https://breathemiami.us/wp-content/uploads/2024/
 10/In-Person-MLC-Saturday-Ritual-Ashtanga-Yoga-Led-Full-Primary-Series-Cla
 ss-1.jpg
CATEGORIES:Wellness Events
LOCATION:Miami Yoga Garage\, 1940 NW Miami Ct Miami\, Miami\, Florida\, 331
 36\,  FL \, United States
X-APPLE-STRUCTURED-LOCATION;VALUE=URI;X-ADDRESS=1940 NW Miami Ct Miami\, Mi
 ami\, Florida\, 33136\,  FL \, United States;X-APPLE-RADIUS=100;X-TITLE=Mi
 ami Yoga Garage:geo:0,0
END:VEVENT
BEGIN:VTIMEZONE
TZID:America/New_York
X-LIC-LOCATION:America/New_York
BEGIN:DAYLIGHT
DTSTART:20240310T030000
TZOFFSETFROM:-0500
TZOFFSETTO:-0400
TZNAME:EDT
END:DAYLIGHT
END:VTIMEZONE
END:VCALENDAR