BEGIN:VCALENDAR
VERSION:2.0
PRODID:-//wp-events-plugin.com//7.2.3.1//EN
TZID:America/New_York
X-WR-TIMEZONE:America/New_York
BEGIN:VEVENT
UID:480@breathemiami.us
DTSTART;TZID=America/New_York;VALUE=DATE:20240507
DTEND;TZID=America/New_York;VALUE=DATE:20240508
DTSTAMP:20240514T045522Z
URL:https://breathemiami.us/events/in-person-class-handmade-pizza-party-mi
 ami/
SUMMARY:In-person class Handmade Pizza Party (Miami)
DESCRIPTION:Immerse yourself in the lively ambiance of Napoli's streets wit
 h a hands-on experience at the Handmade Pizza Party\, hosted at Miam Cafe 
 Biscayne\, located at 1040 Biscayne Boulevard\, Miami\, FL 33132\, United 
 States.\n\nThis engaging culinary event beckons enthusiasts to join in gro
 ups of two or more for an unforgettable journey into the realm of pizza cr
 afting. Delve into the rich history of pizza\, exploring its origins\, reg
 ional variations\, and evolution into the beloved styles cherished today. 
 Under the expert guidance of a seasoned Chef Instructor\, participants wil
 l embark on a comprehensive exploration\, starting with a captivating demo
 nstration.\n\nLocation:\n\n 	Miam Cafe Biscayne\n 	1040 Biscayne Boulevard
 \, Miami\, FL 33132\, United States\n\nBooking Details:\n\n 	Minimum booki
 ng requirement: 2 or more participants\n 	Group reservations: Please reser
 ve under one name for the entire group\n\nExperience Description:\n\n 	Tra
 nsport to the streets of Napoli\n 	Learn the art of Pizza making from scra
 tch\n\nClass Highlights:\n\n 	Dive into pizza history and regional variati
 ons\n 	Detailed demonstration by Chef Instructor\n 	Hands-on experience in
  crafting pizza dough\n 	Selection of toppings to personalize your Margher
 ita pizza\n\nParticipant Requirements:\n\n 	No prior experience needed\n 	
 All equipment and ingredients provided\n 	Participants aged 14 to 17 must 
 be accompanied by a parent or guardian\n 	Intended for adults 18+\n 	BYOB 
 (beer\, wine\, and champagne only) for guests over 21\n\nAdditional Inform
 ation:\n\n 	Casual and fun atmosphere\n 	Arrive 15 minutes early for check
 -in\, especially for large groups\n 	Guests will work together in pairs\, 
 sharing ingredients and equipment\n 	Each pair will make one large pizza t
 o share\n\nDietary Accommodations:\n\n 	Vegetarian-friendly\n 	Egg-free\n 
 	Nut-free\n 	Fish-free\n 	Shellfish-free\n\n\nGET TICKETS\n
ATTACH;FMTTYPE=image/jpeg:https://breathemiami.us/wp-content/uploads/2024/
 05/Handmade-Pizza-Party-Miami.jpg
CATEGORIES:Food &amp; Drink Events
LOCATION:1040 Biscayne Boulevard Miami\, 1040 Biscayne Boulevard\, Miami\, 
 Florida\, 33132\, United States
X-APPLE-STRUCTURED-LOCATION;VALUE=URI;X-ADDRESS=1040 Biscayne Boulevard\, M
 iami\, Florida\, 33132\, United States;X-APPLE-RADIUS=100;X-TITLE=1040 Bis
 cayne Boulevard Miami:geo:0,0
END:VEVENT
BEGIN:VTIMEZONE
TZID:America/New_York
X-LIC-LOCATION:America/New_York
BEGIN:DAYLIGHT
DTSTART:20240310T030000
TZOFFSETFROM:-0500
TZOFFSETTO:-0400
TZNAME:EDT
END:DAYLIGHT
END:VTIMEZONE
END:VCALENDAR