BEGIN:VCALENDAR
VERSION:2.0
PRODID:-//wp-events-plugin.com//7.2.3.1//EN
TZID:America/New_York
X-WR-TIMEZONE:America/New_York
BEGIN:VEVENT
UID:952@breathemiami.us
DTSTART;TZID=America/New_York:20241025T183000
DTEND;TZID=America/New_York:20241025T203000
DTSTAMP:20241002T162126Z
URL:https://breathemiami.us/events/in-person-class-french-macaron-miami/
SUMMARY:In-person class: French Macaron (Miami)
DESCRIPTION:Step into the world of Parisian patisseries with this delightfu
 l French macaron baking class! Put on your aprons\, grab your whisks\, and
  get ready to master the delicate art of creating these iconic French trea
 ts. This interactive and engaging class\, led by a classically trained Pas
 try Chef Instructor\, will walk you through the entire process of making m
 acarons\, making it simple enough to recreate in your own kitchen.\n\nFrom
  the mysterious process of macaronage (meringue mixing) to piping\, baking
 \, and assembling the cookies\, you’ll be guided step-by-step. You'll al
 so explore a variety of filling flavors\, including white chocolate ganach
 e\, fruit preserves\, and dulce de leche\, adding your personal twist to t
 hese delectable treats. Whether you’re an experienced baker or a complet
 e beginner\, this class is designed for everyone. You can actively partici
 pate in every step\, or simply observe and taste-test throughout the proce
 ss.\n\nNo prior experience is necessary\, and all equipment and ingredient
 s will be provided\, easily sourced from local markets for those looking t
 o recreate the experience at home. Participants within the same booking gr
 oup will share ingredients and equipment\, working together to create thei
 r delicious masterpieces.\n\nPlease arrive 15 minutes early for check-in. 
 Drinks are not included\, but you're welcome to bring your own beer\, wine
 \, or champagne to enjoy during the class. This experience is also friendl
 y to those with dietary restrictions\, including vegetarian\, gluten-free\
 , fish-free\, and shellfish-free options.\n\nFor further assistance\, cont
 act hello@cocusocial.com if you don’t receive a confirmation email withi
 n 24 hours of booking.\n\nGET TICKETS\n
ATTACH;FMTTYPE=image/jpeg:https://breathemiami.us/wp-content/uploads/2024/
 10/In-person-class-French-Macaron-Miami.jpg
CATEGORIES:Food &amp; Drink Events
LOCATION:MIAM Cafe - Wynwood\, 2750 Northwest 3rd Avenue\, Suite 21 Miami\,
  Florida\, 33127\, FL\, United States
X-APPLE-STRUCTURED-LOCATION;VALUE=URI;X-ADDRESS=2750 Northwest 3rd Avenue\,
  Suite 21 Miami\, Florida\, 33127\, FL\, United States;X-APPLE-RADIUS=100;
 X-TITLE=MIAM Cafe - Wynwood:geo:0,0
END:VEVENT
BEGIN:VTIMEZONE
TZID:America/New_York
X-LIC-LOCATION:America/New_York
BEGIN:DAYLIGHT
DTSTART:20240310T030000
TZOFFSETFROM:-0500
TZOFFSETTO:-0400
TZNAME:EDT
END:DAYLIGHT
END:VTIMEZONE
END:VCALENDAR