BEGIN:VCALENDAR
VERSION:2.0
PRODID:-//wp-events-plugin.com//7.2.3.1//EN
TZID:America/New_York
X-WR-TIMEZONE:America/New_York
BEGIN:VEVENT
UID:615@breathemiami.us
DTSTART;TZID=America/New_York:20240719T183000
DTEND;TZID=America/New_York:20240719T203000
DTSTAMP:20240706T091743Z
URL:https://breathemiami.us/events/in-person-class-authentic-pasta-worksho
 p-handmade-gnocchi/
SUMMARY:In-person class: Authentic Pasta Workshop: Handmade Gnocchi
DESCRIPTION:Discover the art of crafting delicious potato gnocchi from scra
 tch in our engaging and hands-on workshop. Whether you're new to cooking o
 r a seasoned chef\, this class promises to be both educational and enjoyab
 le.\n\nDuring the workshop\, you'll learn the step-by-step process of prep
 aring and shaping potato gnocchi. From kneading the dough to forming the p
 erfect dumplings and cooking them to perfection\, you'll gain valuable ins
 ights into the importance of ingredient selection and techniques for repli
 cating this dish at home.\n\nMaster the recipe for mouthwatering gnocchi p
 aired with a savory brown butter sage sauce\, ensuring that every bite is 
 a delight. Our instructors will guide you through each stage\, offering ti
 ps and tricks to enhance your culinary skills.\n\nNo prior experience is n
 ecessary to participate—all necessary equipment and ingredients will be 
 provided. If you're missing any items\, they can easily be sourced from lo
 cal markets.\n\nParticipants are encouraged to arrive 15 minutes early to 
 check in and get settled. For safety and an enriching experience\, we requ
 ire that children aged 14 to 17 be accompanied by a parent or guardian dur
 ing our cooking classes. Our workshops are tailored for adults\, providing
  a focused and rewarding culinary experience.\n\nJoin us for a memorable j
 ourney into the world of handmade gnocchi\, where you'll not only learn a 
 new skill but also savor the satisfaction of creating a delicious Italian 
 dish from scratch. Reserve your spot today and embark on this culinary adv
 enture with us!\n\nGET TICKETS\n
ATTACH;FMTTYPE=image/jpeg:https://breathemiami.us/wp-content/uploads/2024/
 07/In-person-class-Authentic-Pasta-Workshop-Handmade-Gnocchi.jpg
CATEGORIES:Food &amp; Drink Events,Things To Do
LOCATION:MIAM Cafe - Wynwood\, 2750 Northwest 3rd Avenue #Suite 21\, Miami\
 , Fl\, 33127\, FL \, United States
X-APPLE-STRUCTURED-LOCATION;VALUE=URI;X-ADDRESS=2750 Northwest 3rd Avenue #
 Suite 21\, Miami\, Fl\, 33127\, FL \, United States;X-APPLE-RADIUS=100;X-T
 ITLE=MIAM Cafe - Wynwood:geo:0,0
END:VEVENT
BEGIN:VTIMEZONE
TZID:America/New_York
X-LIC-LOCATION:America/New_York
BEGIN:DAYLIGHT
DTSTART:20240310T030000
TZOFFSETFROM:-0500
TZOFFSETTO:-0400
TZNAME:EDT
END:DAYLIGHT
END:VTIMEZONE
END:VCALENDAR