BEGIN:VCALENDAR
VERSION:2.0
PRODID:-//wp-events-plugin.com//7.2.3.1//EN
TZID:America/New_York
X-WR-TIMEZONE:America/New_York
BEGIN:VEVENT
UID:229@breathemiami.us
DTSTART;TZID=America/New_York:20231230T223000
DTEND;TZID=America/New_York:20231230T234500
DTSTAMP:20240218T005127Z
URL:https://breathemiami.us/events/in-mayfair-house/
SUMMARY:Saturday Morning Yoga Flow in Coconut Grove
DESCRIPTION:Event Information:\n\n\n\n\n\n\n\n\n\n\n\n\n\nIgnite your Satur
 day in the heart of Coconut Grove with a revitalizing yoga flow at the ico
 nic Mayfair House Hotel &amp\; Garden. Join us as we kickstart the day wit
 h an energizing session designed to elevate your spirit and set a positive
  tone for the weekend. Immerse yourself in the serene ambiance of the Mayf
 air House\, where wellness meets luxury\, and experience the transformativ
 e power of yoga under the guidance of the radiant Leom. Start your day on 
 a refreshing note\, surrounded by the beauty of Coconut Grove\, as you flo
 w through a series of invigorating poses in the enchanting setting of the 
 Mayfair House Hotel &amp\; Garden.\n\n\n\n\n\n\n\n\n\n\n\n\n\nDate and Tim
 e:Saturday\, December 30 · 10:30 - 11:45am EST\n\nAbout this event:\n\n 	
 Join Modern ŌM for an invigorating Saturday morning yoga class led by the
  radiant Leom at the Mayfair House Hotel &amp\; Garden. Immerse yourself i
 n a 75-minute session designed to promote a sense of freedom\, expansivene
 ss\, and an unencumbered life. Picture a perfect Saturday morning practici
 ng yoga in the enchanting setting of the Mayfair House before strolling to
  the Coconut Grove Farmer's Market or enjoying brunch in the neighborhood.
  Experience the magic of a beautiful morning filled with healing modalitie
 s such as sound therapy\, guided meditation\, breath-work\, and yoga.\n\nD
 uration: 1 hour 15 minutes\n\nTicket Information:\n\n 	Registration option
 s: Early Bird or General Admission\n\n\nGET TICKETS\n\n\nWorkout Session D
 etails:\n\n 	Energizing 75-minute yoga class\n 	Integrates sound therapy\,
  guided meditation\, breath-work\, and yoga\n 	Led by Leom\, a dedicated s
 oul promoting holistic well-being\n\nEssentials to Bring:\n\n 	Yoga mat\n 
 	Refillable water bottle\n 	Open heart\n\nParking Options:\n\n 	Convenient
  valet parking at Mayfair House and paid parking in the neighborhood ensur
 es a hassle-free arrival.\n
ATTACH;FMTTYPE=image/jpeg:https://breathemiami.us/wp-content/uploads/2023/
 12/https___cdn.evbuc_.com_images_613887109_1145507310493_1_original-3.jpg
CATEGORIES:Wellness Events,Yoga Events
LOCATION:Mayfair House Hotel & Garden\, 3000 Florida Avenue\, Miami\, FL\, 
 33133\, United States
X-APPLE-STRUCTURED-LOCATION;VALUE=URI;X-ADDRESS=3000 Florida Avenue\, Miami
 \, FL\, 33133\, United States;X-APPLE-RADIUS=100;X-TITLE=Mayfair House Hot
 el & Garden:geo:0,0
END:VEVENT
BEGIN:VTIMEZONE
TZID:America/New_York
X-LIC-LOCATION:America/New_York
BEGIN:STANDARD
DTSTART:20231105T010000
TZOFFSETFROM:-0400
TZOFFSETTO:-0500
TZNAME:EST
END:STANDARD
END:VTIMEZONE
END:VCALENDAR