BEGIN:VCALENDAR
VERSION:2.0
PRODID:-//wp-events-plugin.com//7.2.3.1//EN
TZID:America/New_York
X-WR-TIMEZONE:America/New_York
BEGIN:VEVENT
UID:257@breathemiami.us
DTSTART;TZID=America/New_York:20240119T090000
DTEND;TZID=America/New_York:20240121T200000
DTSTAMP:20240313T002040Z
URL:https://breathemiami.us/events/in-faena-hotel-miami-beach/
SUMMARY:Ultimate Wellness Retreat at Faena Hotel\, Miami Beach
DESCRIPTION:Event Information:\n\n\n\n\n\n\n\n\n\n\n\n\n\nThe Ultimate Well
 ness Retreat at Faena Hotel\, Miami Beach\, boasts an impressive lineup of
  speakers\, each renowned in their respective fields. Prepare to be enligh
 tened by experts who will guide you on a journey through Health &amp\; Lon
 gevity\, Spiritual Activations\, Breath-work\, SuperBrain Yoga\, Energy He
 aling\, and Experiences with Biohacking Technologies.\n\n 	Health &amp\; L
 ongevity Experts:\n\n 	Gain insights from leading authorities on nutrition
 \, stress reduction\, and supplementation\, as they share strategies for o
 ptimizing health and achieving longevity.\n\n\n 	Spiritual Activations and
  Breath-work Leaders:\n\n 	Immerse yourself in the wisdom of spiritual lea
 ders who will guide you through transformative activations and breath-work
  exercises\, fostering a deeper connection with your inner self.\n\n\n 	Su
 perBrain Yoga Specialists:\n\n 	Explore the fascinating realm of SuperBrai
 n Yoga with specialists who will delve into practices designed to enhance 
 cognitive function and promote mental well-being.\n\n\n 	Energy Healing Ma
 sters:\n\n 	Learn from seasoned practitioners of energy healing\, discover
 ing ancient and modern techniques to balance and restore your body's energ
 y.\n\n\n 	Biohacking Technologies Pioneers:\n\n 	Engage with pioneers in t
 he field of biohacking technologies\, experiencing firsthand the latest ad
 vancements and innovations that can elevate your overall well-being.\n\n\n
 \nThis diverse lineup ensures a holistic and enriching experience\, where 
 you'll have the opportunity to interact with these experts\, ask questions
 \, and incorporate their teachings into your personal journey towards ulti
 mate wellness. Get ready to be inspired and empowered by the collective wi
 sdom of these esteemed speakers at the Ultimate Wellness Retreat.\n\n\n\n\
 n\n\n\n\n\n\n\n\n\nDate and Time:January 19\, 2024 · 9am - January 21\, 2
 024 · 8pm EST\n\nAbout this event:\n\n 	The Ultimate Wellness Retreat at 
 Faena Hotel in Miami Beach promises a transformative experience across spi
 ritual\, psychological\, emotional\, and physical levels. This 3-day progr
 am offers strategies for health optimization and longevity\, featuring top
  experts in nutrition\, stress reduction\, supplementation\, fasting\, exe
 rcise\, and etheric hygiene.Participants will dive into fascinating wellne
 ss experiences and ancient practices while exploring advanced biohacking t
 echnologies. A unique opportunity is presented to become a Basic Pranic He
 aler with a certification\, accelerating the body's natural healing abilit
 ies and unlocking innate powers to heal loved ones.The retreat aims to bui
 ld a conscious community of like-minded individuals who support each other
 \, elevating vibrations and activating the highest potential for creating 
 the life and business of one's dreams.\n\nTotal Duration: 11 hour\n\nTicke
 t Information:\n\n 	\n\n 	Price: $1999 for the 3-day program\n 	Inclusions
 :\n\n 	All activities in Faena's SPA\n 	Lunch and Dinner each day\n\n\n\nH
 urry up to book your spot\, and more information can be found at Ultimate 
 Wellness Retreat.\n\n\nGET TICKETS\n\n\nWorkout Session Details:\n\n 	The 
 program includes a diverse range of activities across spiritual\, psycholo
 gical\, emotional\, and physical aspects\, covering nutrition\, stress red
 uction\, supplementation\, fasting\, exercise\, etheric hygiene\, and more
 . Participants can expect a comprehensive approach to well-being.\n\nEssen
 tials to Bring:\n\n 	Participants are encouraged to bring an open mind\, c
 omfortable clothing suitable for various activities\, a water bottle\, and
  any personal items necessary for a holistic wellness experience.\n\nParki
 ng Options:\n\n 	\n\n\n\n\n\n\n\n\n\nPlease check with Faena Hotel for par
 king details and options available during the Ultimate Wellness Retreat.\n
 \nThis event promises a unique blend of education\, experience\, and commu
 nity\, making it a valuable opportunity for those seeking a complete reset
  and transformation across various aspects of their lives.\n\n\n\n\n\n\n\n
 \n\n\n\n\n\n\n\n\n\n\n\n
ATTACH;FMTTYPE=image/jpeg:https://breathemiami.us/wp-content/uploads/2023/
 12/https___cdn.evbuc_.com_images_644851319_1085430496093_1_original.jpg
CATEGORIES:Things To Do,Wellness Events
LOCATION:Faena Hotel\, 3201 Collins Avenue\, Miami Beach\, FL\, 33140\, Uni
 ted States
X-APPLE-STRUCTURED-LOCATION;VALUE=URI;X-ADDRESS=3201 Collins Avenue\, Miami
  Beach\, FL\, 33140\, United States;X-APPLE-RADIUS=100;X-TITLE=Faena Hotel
 :geo:0,0
END:VEVENT
BEGIN:VTIMEZONE
TZID:America/New_York
X-LIC-LOCATION:America/New_York
BEGIN:STANDARD
DTSTART:20231105T010000
TZOFFSETFROM:-0400
TZOFFSETTO:-0500
TZNAME:EST
END:STANDARD
END:VTIMEZONE
END:VCALENDAR