BEGIN:VCALENDAR
VERSION:2.0
PRODID:-//wp-events-plugin.com//7.2.3.1//EN
TZID:America/New_York
X-WR-TIMEZONE:America/New_York
BEGIN:VEVENT
UID:1326@breathemiami.us
DTSTART;TZID=America/New_York:20251021T190000
DTEND;TZID=America/New_York:20251021T203000
DTSTAMP:20251007T154422Z
URL:https://breathemiami.us/events/immersive-yoga-flow-w-anna-bronson-yoga
 /
SUMMARY:Immersive Yoga Flow w/ ANNA BRONSON YOGA
DESCRIPTION:IMMERSIVE YOGA FLOW WITH ANNA BRONSON YOGA\n&nbsp\;\n\nThis is 
 not your typical yoga class. Immerse yourself in a one-of-a-kind session c
 ombining mindful movement\, immersive installations\, and the cosmic energ
 y of the universe 🌌. Together\, we’ll align our bodies and souls as w
 e explore the unseen dimensions of yoga within a dynamic art space.\n\n&nb
 sp\;\n🌀 What makes this class unique?\nIt’s a blend of movement and a
 rt—with visual installations that open the door to deeper self-reflectio
 n and connection. You'll leave not just feeling balanced\, but truly conne
 cted to the energies around and within you. 🌠\n&nbsp\;\n\n🎟 Mats pro
 vided — just bring your glow and good energy. All levels welcome.\n\nCom
 e solo or with friends — we’ll meet you on the mat.\n\n&nbsp\;\n\n✨
  VR Meditation Experience ✨\nAdd-On ($25) | Starts at 8:30 PM \n\n
 🌊 Featuring AQUAZUL VR by Alissa Christine\n🎭 Commissioned by The Ad
 rienne Arsht Center\n\n&nbsp\;\n\n🌌 The Experience\nA 30-min ocean-ins
 pired VR meditation + sound journey to reset your mind and restore balance
 .\n\n🌀 Hand-painted 3D worlds\n💦 Breathwork\, grounding + sound bath
 \n\n&nbsp\;\n\n💙 Benefits\n• Reduce stress + quiet the mind\n• Sup
 port sleep + focus\n• Promote inner peace + mindfulness\n\n&nbsp\;
ATTACH;FMTTYPE=image/jpeg:https://breathemiami.us/wp-content/uploads/2025/
 09/poeudps2ou8tfoiaxsc5-1.jpg
CATEGORIES:Mindfulness Events,Sports &amp; Fitness Events,Things To
 Do,Wellness Events,Yoga Events
LOCATION:ARTXSPACE\, 301 NW 28th St\, Miami\, 33137\, FL\, United States
X-APPLE-STRUCTURED-LOCATION;VALUE=URI;X-ADDRESS=301 NW 28th St\, Miami\, 33
 137\, FL\, United States;X-APPLE-RADIUS=100;X-TITLE=ARTXSPACE:geo:0,0
END:VEVENT
BEGIN:VTIMEZONE
TZID:America/New_York
X-LIC-LOCATION:America/New_York
BEGIN:DAYLIGHT
DTSTART:20250309T030000
TZOFFSETFROM:-0500
TZOFFSETTO:-0400
TZNAME:EDT
END:DAYLIGHT
END:VTIMEZONE
END:VCALENDAR