BEGIN:VCALENDAR
VERSION:2.0
PRODID:-//wp-events-plugin.com//7.2.3.1//EN
TZID:America/New_York
X-WR-TIMEZONE:America/New_York
BEGIN:VEVENT
UID:553@breathemiami.us
DTSTART;TZID=America/New_York:20240718T190000
DTEND;TZID=America/New_York:20240721T200000
DTSTAMP:20240623T084820Z
URL:https://breathemiami.us/events/immersive-space-symphony/
SUMMARY:Immersive Space Symphony
DESCRIPTION:Prepare to embark on an extraordinary audiovisual voyage with I
 mmersive Space Symphony in Miami. This groundbreaking production merges th
 e timeless allure of classical music with cutting-edge technology\, promis
 ing a sensory journey that transcends the boundaries of traditional concer
 ts. Delve into the cosmic realms through iconic compositions like Gustav H
 olst's 'The Planets'\, Strauss' 'Also sprach Zarathustra' (known for its a
 ssociation with 2001: A Space Odyssey)\, and selections from Hans Zimmer's
  epic Interstellar soundtrack.\n\nHighlights of the Experience\n\n 	Unique
  Audiovisual Concert: Immerse yourself in an innovative blend of live orch
 estral music and state-of-the-art projection-mapping technology that trans
 forms the entire performance space into a dynamic canvas of visual wonder.
 \n 	360-Degree Projection Mapping: Witness stunning visual animations that
  envelop you from every angle\, synchronizing seamlessly with the orchestr
 al performance to create an immersive narrative of celestial exploration.\
 n 	Live Orchestra: Enjoy the harmonious melodies and powerful crescendos d
 elivered by a talented ensemble of musicians renowned across the United St
 ates\, bringing these iconic compositions to life with unparalleled skill 
 and passion.\n 	Journey to Outer Space: Let your imagination soar as you a
 re transported into the depths of the universe\, guided by captivating vis
 uals that evolve in harmony with the music\, enhancing every note and cres
 cendo.\n\nStep Into the Future of Classical Music\n\nImmersive Space Symph
 ony in Miami promises an unforgettable evening where music transcends the 
 ordinary and reaches for the stars. This is more than just a concert—it'
 s a multi-sensory experience that invites you to witness classical masterp
 ieces in a whole new light. Imagine being surrounded by a symphony of visu
 als that respond in real time to the live orchestra\, creating an atmosphe
 re that is as awe-inspiring as it is enchanting.\n\nJoin Us for Immersive 
 Space Symphony\n\nDon't miss your chance to be part of this groundbreaking
  event that redefines the boundaries of classical music performance. Wheth
 er you're a music aficionado\, a technology enthusiast\, or simply curious
  about new experiences\, Immersive Space Symphony in Miami promises an eve
 ning of discovery and wonder. Secure your tickets now and prepare to embar
 k on a journey through sound and vision unlike anything you've ever seen o
 r heard before!\n\nGET TICKETS\n
ATTACH;FMTTYPE=image/jpeg:https://breathemiami.us/wp-content/uploads/2024/
 06/Immersive-Space-Symphony.avif
CATEGORIES:Mindfulness Events,Things To Do
LOCATION:Faena Forum\, 3300-3398 Collins Avenue Miami Beach\, FL 33140 Unit
 ed States\, Miami\, Florida\, 33132\, United States
X-APPLE-STRUCTURED-LOCATION;VALUE=URI;X-ADDRESS=3300-3398 Collins Avenue Mi
 ami Beach\, FL 33140 United States\, Miami\, Florida\, 33132\, United Stat
 es;X-APPLE-RADIUS=100;X-TITLE=Faena Forum:geo:0,0
END:VEVENT
BEGIN:VTIMEZONE
TZID:America/New_York
X-LIC-LOCATION:America/New_York
BEGIN:DAYLIGHT
DTSTART:20240310T030000
TZOFFSETFROM:-0500
TZOFFSETTO:-0400
TZNAME:EDT
END:DAYLIGHT
END:VTIMEZONE
END:VCALENDAR