BEGIN:VCALENDAR
VERSION:2.0
PRODID:-//wp-events-plugin.com//7.2.3.1//EN
TZID:America/New_York
X-WR-TIMEZONE:America/New_York
BEGIN:VEVENT
UID:1221@breathemiami.us
DTSTART;TZID=America/New_York:20250211T193000
DTEND;TZID=America/New_York:20250211T210000
DTSTAMP:20250205T185803Z
URL:https://breathemiami.us/events/immersive-sound-meditation/
SUMMARY:Immersive Sound Meditation
DESCRIPTION:Step into a multi-sensory dreamscape at ARTXSPACE Miami\, where
  sound and energy merge to create a profoundly immersive meditation experi
 ence. Guided by expert practitioners Lilyana Fonte and Rob Newmans\, this 
 transformative journey invites participants to surrender to the resonant p
 ower of vibrational soundscapes\, fostering deep relaxation\, emotional re
 lease\, and energetic realignment.\n\nUnlike traditional meditation\, a so
 und journey is designed to naturally guide the mind into a meditative stat
 e using harmonic frequencies. As participants lie down and receive the vib
 rations\, waves of soothing sound wash over them\, unlocking a state of de
 ep healing\, clarity\, and balance.\nA Multi-Layered Soundscape for Mind\,
  Body &amp\; Soul\nThis immersive session transcends the familiar tones of
  crystal singing bowls\, incorporating an array of powerful vibrational in
 struments\, including:\n🎵 Shamanic drums – grounding rhythms that res
 tore inner balance\n🎶 Didgeridoos &amp\; flutes – ancient instruments
  that guide energy flow\n🌀 Crystal harps &amp\; gongs – celestial har
 monics for deep relaxation\n🗣 Intuitive chanting &amp\; toning – voic
 e-activated frequencies for healing\nThe Science of Sound Healing\nThe the
 rapeutic power of sound operates on a cellular level\, helping to:\n✔ Re
 duce stress &amp\; anxiety by lowering cortisol levels\n✔ Induce deep re
 laxation by shifting brainwaves to a restorative theta state\n✔ Enhance 
 sleep quality by regulating the body's natural rhythms\n✔ Balance energy
  centers by recalibrating vibrational frequencies\nEvent Details\n📍 Loc
 ation: ARTXSPACE\, Miami\n📅 Date &amp\; Time: February 11\, 2025 | 7:30
  PM\n🎟 Limited Spots Available – Secure Your Space Now!\n\n🔹 What 
 to Bring: A yoga mat or cushion for comfort\nMeet Your Guides\nLilyana Fon
 te (aLilyKat) – The Sound Alchemist\nA Miami native with deep Afro-Cuban
  roots\, Lilyana blends music\, sound healing\, and intuitive energy work 
 to create transformative experiences. As a Holy Fire Reiki Master\, DJ\, a
 nd sound practitioner\, she bridges the worlds of spiritual healing and im
 mersive audio. Lilyana curates wellness experiences across South Florida\,
  leading sound journeys at festivals\, retreats\, and her 420 Space Yoga g
 atherings\, which welcome over 200 participants every Saturday.\n\n🔗 Fo
 llow Lilyana: @alilykat\nRob Newmans (AcroYoda) – The Movement &amp\; So
 und Explorer\nA dynamic force in the Miami wellness and movement scene\, R
 ob has over a decade of expertise in sound healing and acro-yoga. His jour
 ney into vibrational sound began with transformative healing events\, lead
 ing him to master instruments like alchemy singing bowls\, gongs\, chimes\
 , didgeridoos\, and flutes. Alongside sound healing\, Rob is a certified A
 croYoga teacher and YogaSlacker\, specializing in slacklining\, dragon sta
 ff\, and rope dart—disciplines that integrate movement\, balance\, and m
 indfulness.\n\n🔗 Follow Rob: @acroyoda\n\n✨ Join this unique immersiv
 e experience and awaken your senses through sound\, vibration\, and deep i
 nner connection. ✨\n\nGET TICKETS\n
ATTACH;FMTTYPE=image/jpeg:https://breathemiami.us/wp-content/uploads/2025/
 02/Immersive-Sound-Meditation.jpeg
CATEGORIES:Wellness Events
LOCATION:311 NW 28th St\, 311 Northwest 28th Street\, Suite 21 Miami\, FL\,
  33127\, FL\, United States
X-APPLE-STRUCTURED-LOCATION;VALUE=URI;X-ADDRESS=311 Northwest 28th Street\,
  Suite 21 Miami\, FL\, 33127\, FL\, United States;X-APPLE-RADIUS=100;X-TIT
 LE=311 NW 28th St:geo:0,0
END:VEVENT
BEGIN:VTIMEZONE
TZID:America/New_York
X-LIC-LOCATION:America/New_York
BEGIN:STANDARD
DTSTART:20241103T010000
TZOFFSETFROM:-0400
TZOFFSETTO:-0500
TZNAME:EST
END:STANDARD
END:VTIMEZONE
END:VCALENDAR