BEGIN:VCALENDAR
VERSION:2.0
PRODID:-//wp-events-plugin.com//7.2.3.1//EN
TZID:America/New_York
X-WR-TIMEZONE:America/New_York
BEGIN:VEVENT
UID:1092@breathemiami.us
DTSTART;TZID=America/New_York:20241103T083000
DTEND;TZID=America/New_York:20241103T210000
DTSTAMP:20241015T134913Z
URL:https://breathemiami.us/events/ikigai-retreat-a-wellness-day-retreat-i
 n-miami-2/
SUMMARY:Ikigai Retreat - A Wellness Day Retreat in Miami
DESCRIPTION:Welcome to the Ikigai Retreat\, a unique wellness day designed 
 to help individuals discover their ikigai—the reason for being. Schedule
 d for Sunday\, November 3\, 2024\, at the Pure Light Miami Organic Yoga &a
 mp\; Cafe\, this retreat promises a rejuvenating experience that blends va
 rious workshops\, classes\, and inspirational talks\, all aimed at helping
  participants find balance and purpose in their lives.\nEvent Highlights:\
 n\n 	Three Unique Rooms: Engage in special sessions every 90 minutes\, eac
 h tailored to enhance your wellness journey.\n 	Over 22 Hours of Transform
 ative Workshops: Experience a wide range of offerings in one day\, includi
 ng healing practices\, movement classes\, dance\, and health workshops.\n 
 	Personalized Class Selection: Attendees have the flexibility to choose an
 y class they wish to attend on a first-come\, first-served basis\, ensurin
 g a customized experience.\n 	Healthy Café: Refuel throughout the day wit
 h nutritious smoothies\, wraps\, teas\, coffee\, and more\, available at t
 he on-site café.\n 	Private Lessons Available: Participants can book priv
 ate sessions with instructors throughout the day for a more individualized
  approach.\n\nThis retreat offers a valuable opportunity for attendees to 
 invest in their well-being and uncover the secrets to living a more meanin
 gful and balanced life. With limited space to ensure a personalized experi
 ence\, it is crucial to secure a spot at the Ikigai Retreat.\n\nDon’t mi
 ss out on this exceptional chance for rejuvenation\, self-discovery\, and 
 connection with like-minded individuals seeking a deeper understanding of 
 their purpose.\nRegister Today!\nJoin us at the Ikigai Retreat and embark 
 on a transformative journey towards balance and fulfillment. Reserve your 
 place now to ensure you don’t miss this opportunity!\n\nGET TICKETS\n
ATTACH;FMTTYPE=image/jpeg:https://breathemiami.us/wp-content/uploads/2024/
 10/Ikigai-Retreat-A-Wellness-Day-Retreat-in-Miami-1.jpg
CATEGORIES:Wellness Events
LOCATION:Pure Light Miami Organic Yoga & Cafe\, 7313 Southwest 59th Court\,
  South Miami\, Florida\, 33143\, FL\, United States
X-APPLE-STRUCTURED-LOCATION;VALUE=URI;X-ADDRESS=7313 Southwest 59th Court\,
  South Miami\, Florida\, 33143\, FL\, United States;X-APPLE-RADIUS=100;X-T
 ITLE=Pure Light Miami Organic Yoga & Cafe:geo:0,0
END:VEVENT
BEGIN:VTIMEZONE
TZID:America/New_York
X-LIC-LOCATION:America/New_York
BEGIN:STANDARD
DTSTART:20241103T010000
TZOFFSETFROM:-0400
TZOFFSETTO:-0500
TZNAME:EST
END:STANDARD
END:VTIMEZONE
END:VCALENDAR