BEGIN:VCALENDAR
VERSION:2.0
PRODID:-//wp-events-plugin.com//7.2.3.1//EN
TZID:America/New_York
X-WR-TIMEZONE:America/New_York
BEGIN:VEVENT
UID:960@breathemiami.us
DTSTART;TZID=America/New_York:20241030T193000
DTEND;TZID=America/New_York:20241030T203000
DTSTAMP:20241002T175228Z
URL:https://breathemiami.us/events/hypnotic-sunset-sound-bath-at-miami-bea
 ch-with-nesli/
SUMMARY:Hypnotic Sunset Sound Bath at Miami Beach with Nesli
DESCRIPTION:Nesli extends a warm invitation to all for an enchanting evenin
 g of tranquility\, healing\, and connection with nature at the Sunset Soun
 d Bath Experience in Miami Beach. Against the stunning backdrop of the set
 ting sun\, this event promises to transport participants into a profound s
 tate of relaxation and self-discovery as the golden rays of the sun dip be
 low the horizon\, casting a gentle glow across the tranquil ocean.\nEmbrac
 ing the Healing Power of Sound\nAs the day transitions into a beautiful ta
 pestry of oranges\, pinks\, and purples\, attendees will find themselves e
 nveloped in the serene ambiance of Miami Beach. The soft sand beneath them
 \, the rhythmic lapping of the waves\, and the soothing breeze combine to 
 create an ideal atmosphere for this immersive experience.\n\nDuring the Su
 nset Sound Bath\, Nesli will guide participants on a transformative journe
 y of sound and stillness. Utilizing crystal singing bowls\, gongs\, and va
 rious sound healing instruments\, she will craft a symphony of harmonic vi
 brations designed to wash over each participant. These soothing sounds wor
 k at a cellular level\, alleviating tension\, clearing energy blockages\, 
 and restoring balance to the body\, mind\, and spirit.\nThe Unique Essence
  of This Experience\nThe combination of breathwork\, sound healing\, hypno
 sis\, and the natural elements of the beach creates a profoundly magical a
 tmosphere. The sound waves interact with the ocean's energy\, enhancing th
 erapeutic effects and fostering a deep connection to the earth. Here’s w
 hat participants can look forward to:\n\n 	Deep Relaxation: As the sun cas
 ts its golden light across the water\, attendees are invited to recline on
  the warm sand\, allowing the sound waves to carry them into a state of de
 ep relaxation. The stresses of everyday life will dissolve\, leaving them 
 feeling revitalized and renewed.\n 	Emotional Release: The sound bath serv
 es as a conduit for releasing emotional blockages that may hinder personal
  growth. The harmonious frequencies aid in clearing stagnant energy\, enab
 ling participants to let go of what no longer serves them. The ocean's vas
 tness serves as a reminder of life's infinite possibilities\, encouraging 
 individuals to embrace upcoming changes and transitions.\n 	Spiritual Conn
 ection: The beach's natural beauty\, coupled with a soothing soundscape\, 
 facilitates a profound connection with one’s inner self. This experience
  invites participants to deepen their mindfulness and spiritual awareness\
 , inspired by the harmonious elements surrounding them.\n 	Community and C
 onnection: More than just a personal journey\, this event offers a chance 
 to connect with like-minded individuals also seeking healing and growth. T
 ogether\, participants will cultivate a supportive and nurturing environme
 nt where everyone is welcome to share in this unique experience.\n\nEssent
 ial Information\n\n 	Location: 79th Street - North Shore Park Beach\n 	Wha
 t to Bring: Attendees are encouraged to bring a mat or towel to lie on\, a
 long with a blanket for warmth as the evening cools. Comfortable clothing 
 is recommended\, and it's best to avoid heavy meals prior to the event.\n 
 	Time: The event will commence as the sun begins to set\, so punctual arri
 val is advised to settle in and prepare for the experience. Participants s
 hould check the event page for the exact timing.\n 	Cancellations: The eve
 nt will be canceled if no one registers in advance. It’s crucial to RSVP
  if planning to attend\, as last-minute walk-ins cannot be accommodated.\n
  	Questions or Private Sessions: For inquiries or to book private sessions
 \, please visit Nesli.TV or contact Nesli via text or call at 646-494-2866
 .\n\nAdditionally\, participants can join the WhatsApp group at nesli.tv/w
 hatsapp and follow on Instagram @NesliTV for updates.\nReserve Your Spot\n
 Spaces are limited to ensure a personalized and intimate experience\, and 
 Nesli encourages early reservations for this Sunset Sound Bath Experience.
  This unique opportunity allows participants to step away from the fast pa
 ce of daily life and immerse themselves in an evening filled with relaxati
 on\, healing\, and connection.\n\nFor any questions or additional informat
 ion\, attendees are welcome to reach out to ensure their experience is smo
 oth and enjoyable. Nesli looks forward to sharing this unforgettable eveni
 ng on the beautiful shores of Miami Beach\, where together\, they will emb
 race the vast healing potential of sound\, movement\, and nature.\nTerms a
 nd Conditions\nBy purchasing a ticket\, attendees agree to the following t
 erms:\n\n 	Acceptance of Terms: Your purchase signifies acceptance of thes
 e terms and conditions.\n 	Health and Safety: Participants are responsible
  for their own health and safety. Nesli does not assume liability for any 
 health issues or injuries that may occur during the event. It is recommend
 ed to consult a healthcare professional if there are any concerns prior to
  attending.\n 	Liability Waiver: By attending this event\, participants wa
 ive any claims against the organizer for injuries or damages that may occu
 r as a result of participation.\n 	Rain Policy: In the event of rain\, the
  event will be rescheduled. There are no refunds. If there is more than a 
 50% chance of rain one hour before the event\, it will be postponed\, and 
 tickets will be honored for the rescheduled date.\n\n\nGET TICKETS\n
ATTACH;FMTTYPE=image/jpeg:https://breathemiami.us/wp-content/uploads/2024/
 10/Hypnotic-Sunset-Sound-Bath-at-Miami-Beach-with-Nesli.jpg
CATEGORIES:Wellness Events
LOCATION:79th Street\, North Shore Park Beach\, Miami\, Florida\, 33137\, F
 L\, United States
X-APPLE-STRUCTURED-LOCATION;VALUE=URI;X-ADDRESS=North Shore Park Beach\, Mi
 ami\, Florida\, 33137\, FL\, United States;X-APPLE-RADIUS=100;X-TITLE=79th
  Street:geo:0,0
END:VEVENT
BEGIN:VTIMEZONE
TZID:America/New_York
X-LIC-LOCATION:America/New_York
BEGIN:DAYLIGHT
DTSTART:20240310T030000
TZOFFSETFROM:-0500
TZOFFSETTO:-0400
TZNAME:EDT
END:DAYLIGHT
END:VTIMEZONE
END:VCALENDAR