BEGIN:VCALENDAR
VERSION:2.0
PRODID:-//wp-events-plugin.com//7.2.3.1//EN
TZID:America/New_York
X-WR-TIMEZONE:America/New_York
BEGIN:VEVENT
UID:840@breathemiami.us
DTSTART;TZID=America/New_York:20241019T180000
DTEND;TZID=America/New_York:20241019T220000
DTSTAMP:20240910T064820Z
URL:https://breathemiami.us/events/howloween-festival/
SUMMARY:Howloween Festival
DESCRIPTION:Celebrate Halloween with your beloved pet at the 14th Annual Ho
 wloween Festival\, taking place on Saturday\, October 19 at its new venue\
 , Palmetto Bay Park. Hosted by PAWS4you\, this family-friendly event promi
 ses an evening of spooktacular fun and festivities under the Full Moon\, w
 ith a captivating glow-in-the-dark theme.\n\nThe festival offers a range o
 f engaging activities for both humans and their furry companions. Particip
 ate in a doggie agility course\, showcase your pup’s costume in the popu
 lar costume contest\, or enjoy trick-or-treating tailored for children. Th
 ere will also be arts and crafts\, interactive games\, live entertainment\
 , and the opportunity to capture Halloween memories with themed portraits.
 \n\nExplore a variety of vendor booths\, take part in exciting raffles and
  giveaways\, and enjoy a selection of food and refreshments\, including be
 er and wine. For those looking to add a new member to their family\, adopt
 able dogs will be on site\, eager to find their forever homes.\n\nAll proc
 eeds from the festival support PAWS4you’s mission to rescue and rehome a
 nimals\, making this event a fun and meaningful way to celebrate the seaso
 n with your four-legged friends. Don’t miss out on this howling good tim
 e!\n\nGET TICKETS\n
ATTACH;FMTTYPE=image/jpeg:https://breathemiami.us/wp-content/uploads/2024/
 09/Howloween-Festival.jpg
CATEGORIES:Things To Do
LOCATION:Palmetto Bay Park\, 17535 SW 95th Avenue Palmetto Bay\, Miami\, Fl
 orida\, 33157\, FL\, United States
X-APPLE-STRUCTURED-LOCATION;VALUE=URI;X-ADDRESS=17535 SW 95th Avenue Palmet
 to Bay\, Miami\, Florida\, 33157\, FL\, United States;X-APPLE-RADIUS=100;X
 -TITLE=Palmetto Bay Park:geo:0,0
END:VEVENT
BEGIN:VTIMEZONE
TZID:America/New_York
X-LIC-LOCATION:America/New_York
BEGIN:DAYLIGHT
DTSTART:20240310T030000
TZOFFSETFROM:-0500
TZOFFSETTO:-0400
TZNAME:EDT
END:DAYLIGHT
END:VTIMEZONE
END:VCALENDAR