BEGIN:VCALENDAR
VERSION:2.0
PRODID:-//wp-events-plugin.com//7.2.3.1//EN
TZID:America/New_York
X-WR-TIMEZONE:America/New_York
BEGIN:VEVENT
UID:845@breathemiami.us
DTSTART;TZID=America/New_York:20241020T130000
DTEND;TZID=America/New_York:20241020T160000
DTSTAMP:20240910T083137Z
URL:https://breathemiami.us/events/howl-o-ween-at-the-wolf-fantastical-cre
 atures/
SUMMARY:Howl-O-Ween at The Wolf: Fantastical Creatures
DESCRIPTION:Get ready for a day of enchantment and eerie fun at The Wolfson
 ian’s 2nd annual Howl-O-Ween on Sunday\, October 20. This family-friendl
 y Halloween celebration invites visitors of all ages to immerse themselves
  in a world of fantastical\, spooky\, and supernatural delights.\n\nThe ev
 ent promises a variety of engaging activities\, including:\n\n 	Mask-Makin
 g Workshop: Join local artist Pangea Kali Virga for a creative mask-making
  session where you can craft your own unique Halloween mask.\n 	Creature Q
 uest Scavenger Hunt: Embark on a thrilling scavenger hunt throughout the m
 useum\, searching for extraordinary animals and mythical creatures hidden 
 among the exhibits.\n 	Library Exploration: Delve into The Wolfsonian’s 
 library collection\, showcasing a fascinating array of extraordinary anima
 ls and mythical beasts that spark imagination and wonder.\n 	Live Music: E
 njoy vibrant performances by the Miami Beach Rock Ensemble\, part of Young
  Musicians Unite\, setting a lively and festive atmosphere.\n 	Sweet Treat
 s: Indulge in delicious Halloween-themed treats and snacks that add a touc
 h of sweetness to the day’s adventures.\n 	Costume Raffle: Don your best
  Halloween costume for a chance to win exciting prizes in our costume raff
 le.\n\nThis magical day of celebration is free and open to the public\, th
 anks to the collaborative efforts of The Wolfsonian and the City of Miami 
 Beach’s OnStage! program. Bring the whole family and join in the fun\, a
 s the museum transforms into a realm of fantastical creatures and Hallowee
 n excitement.\n\nGET TICKETS\n
ATTACH;FMTTYPE=image/jpeg:https://breathemiami.us/wp-content/uploads/2024/
 09/Screenshot-2024-09-10-142606.png
CATEGORIES:Things To Do
LOCATION:The Wolfsonian - FIU\, The Wolfsonian - FIU\, Miami\, Florida\, 33
 139\, FL\, United States
X-APPLE-STRUCTURED-LOCATION;VALUE=URI;X-ADDRESS=The Wolfsonian - FIU\, Miam
 i\, Florida\, 33139\, FL\, United States;X-APPLE-RADIUS=100;X-TITLE=The Wo
 lfsonian - FIU:geo:0,0
END:VEVENT
BEGIN:VTIMEZONE
TZID:America/New_York
X-LIC-LOCATION:America/New_York
BEGIN:DAYLIGHT
DTSTART:20240310T030000
TZOFFSETFROM:-0500
TZOFFSETTO:-0400
TZNAME:EDT
END:DAYLIGHT
END:VTIMEZONE
END:VCALENDAR