BEGIN:VCALENDAR
VERSION:2.0
PRODID:-//wp-events-plugin.com//7.2.3.1//EN
TZID:America/New_York
X-WR-TIMEZONE:America/New_York
BEGIN:VEVENT
UID:381@breathemiami.us
DTSTART;TZID=America/New_York:20240406T080000
DTEND;TZID=America/New_York:20240406T120000
DTSTAMP:20240313T220257Z
URL:https://breathemiami.us/events/homestead-bayfront-park-coastal-cleanup
 /
SUMMARY:Homestead Bayfront Park Coastal Cleanup
DESCRIPTION:\nHelp Keep Our Oceans Healthy: Volunteer at the Monthly Beach 
 Cleanup!\nCalling all ocean enthusiasts and eco-warriors! Lend a helping h
 and on the first Saturday of every month and join the dedicated volunteers
  at Homestead Bayfront Park &amp\; Herbert Hoover Marina. Together\, you'l
 l play a vital role in keeping our coastal park pristine and protecting th
 e delicate ocean ecosystem.\nMake a Difference\, One Piece of Trash at a T
 ime:\n\n\n 	Root Out Microplastics and Trash: Your efforts will focus on r
 emoving harmful microplastics and general litter from the park's grounds. 
 By doing so\, you'll be directly contributing to a healthier environment f
 or marine life and the surrounding ecosystem.\n 	Adapting to Needs: Be pre
 pared to tackle various tasks as needed to ensure a thorough cleanup. Your
  flexibility will be key in keeping the park looking its best.\n\nOpen to 
 All Ages (with a Twist):\nThis volunteering opportunity welcomes everyone 
 who shares a passion for protecting our oceans. However\, if you're under 
 15 years old\, we kindly ask that a parent or guardian join you for the da
 y.\nBe Prepared for a Rewarding Day:\n\n\n 	Punctuality is Key: Arrive at 
 your designated start time and check in with park staff to ensure a smooth
  start to the cleanup.\n 	Gear Up for Success: Don't forget to bring a reu
 sable water bottle to stay hydrated throughout the day. Closed-toed shoes 
 are essential for navigating the park terrain safely. Miami sun can be unf
 orgiving\, so pack sunscreen\, a hat\, and sunglasses to protect yourself 
 from the rays. If you have your own work gloves\, bringing them along will
  be a big help.\n 	Tracking Your Contribution: If you require community se
 rvice hour documentation\, simply let the park staff know after the event.
  They'll be happy to email you a confirmation letter upon request.\n\nBy v
 olunteering at the Homestead Bayfront Park &amp\; Herbert Hoover Marina cl
 eanup\, you'll do far more than just pick up trash. You'll be actively saf
 eguarding the health of our oceans\, one piece of plastic at a time. Join 
 the movement\, make a difference\, and experience the satisfaction of work
 ing towards a cleaner and healthier environment for all.\n\n\n\nBOOK SPOTS
 \n
ATTACH;FMTTYPE=image/jpeg:https://breathemiami.us/wp-content/uploads/2024/
 03/Live-A-Park-Life-3.png
CATEGORIES:Things To Do,Wellness Events
LOCATION:Homestead Bayfront Park\, 9698 SW 328th St\, \, Homestead\,\, Flor
 ida\, 33033\, United States
X-APPLE-STRUCTURED-LOCATION;VALUE=URI;X-ADDRESS=9698 SW 328th St\, \, Homes
 tead\,\, Florida\, 33033\, United States;X-APPLE-RADIUS=100;X-TITLE=Homest
 ead Bayfront Park:geo:0,0
END:VEVENT
BEGIN:VTIMEZONE
TZID:America/New_York
X-LIC-LOCATION:America/New_York
BEGIN:DAYLIGHT
DTSTART:20240310T030000
TZOFFSETFROM:-0500
TZOFFSETTO:-0400
TZNAME:EDT
END:DAYLIGHT
END:VTIMEZONE
END:VCALENDAR