BEGIN:VCALENDAR
VERSION:2.0
PRODID:-//wp-events-plugin.com//7.2.3.1//EN
TZID:America/New_York
X-WR-TIMEZONE:America/New_York
BEGIN:VEVENT
UID:629@breathemiami.us
DTSTART;TZID=America/New_York:20240808T183000
DTEND;TZID=America/New_York:20240808T210000
DTSTAMP:20240718T103145Z
URL:https://breathemiami.us/events/holistic-health-wellness-networking-exp
 erience-miami/
SUMMARY:Holistic Health & Wellness Networking Experience Miami
DESCRIPTION:Downtown Miami welcomes the Holistic Health &amp\; Wellness Net
 working Event\, designed to foster valuable connections\, potential client
 s\, collaborations\, and partnerships.\n\nWhat to Expect:\n\n 	Authentic C
 onnections: Unlike typical networking events\, this gathering focuses on c
 onnecting through genuine interactions\, emphasizing who you are over what
  you do.\n 	Engaging Atmosphere: Making new connections can be intimidatin
 g\, but this event is structured to be a fun and relaxed way to meet like-
 minded individuals.\n 	Holistic Modalities: Explore and learn about variou
 s holistic health practices and modalities from local vendors and business
 es.\n 	Networking Opportunities: Ideal for those interested in natural hea
 lth solutions\, as well as holistic health professionals\, entrepreneurs\,
  and medical professionals looking to expand their networks.\n\nEvent High
 lights:\n\n 	Vendors: Discover local businesses offering a range of holist
 ic products and services.\n 	Interactive Activities: Engage in activities 
 designed to facilitate meaningful connections and learning.\n 	Parking: Am
 ple parking is available at the Hub\, with a $10 flat fee for the building
 's garage\, or you can opt for street parking nearby.\n\nWhether you're pa
 ssionate about natural health alternatives or a professional in the holist
 ic health space\, this event promises a unique and enriching networking ex
 perience. Come join us for a day of connection\, learning\, and fun!\n\nGE
 T TICKETS\n
ATTACH;FMTTYPE=image/jpeg:https://breathemiami.us/wp-content/uploads/2024/
 07/Holistic-Health-Wellness-Networking-Experience-Miami.jpg
CATEGORIES:Mindfulness Events,Things To Do,Wellness Events
LOCATION:1501 Biscayne Blvd suite 501\, 1501 Biscayne Boulevard #suite 501 
 Miami\, Miami\, Florida\, 33132\, FL \, United States
X-APPLE-STRUCTURED-LOCATION;VALUE=URI;X-ADDRESS=1501 Biscayne Boulevard #su
 ite 501 Miami\, Miami\, Florida\, 33132\, FL \, United States;X-APPLE-RADI
 US=100;X-TITLE=1501 Biscayne Blvd suite 501:geo:0,0
END:VEVENT
BEGIN:VTIMEZONE
TZID:America/New_York
X-LIC-LOCATION:America/New_York
BEGIN:DAYLIGHT
DTSTART:20240310T030000
TZOFFSETFROM:-0500
TZOFFSETTO:-0400
TZNAME:EDT
END:DAYLIGHT
END:VTIMEZONE
END:VCALENDAR