BEGIN:VCALENDAR
VERSION:2.0
PRODID:-//wp-events-plugin.com//7.2.3.1//EN
TZID:America/New_York
X-WR-TIMEZONE:America/New_York
BEGIN:VEVENT
UID:826@breathemiami.us
DTSTART;TZID=America/New_York:20240903T193000
DTEND;TZID=America/New_York:20240903T213000
DTSTAMP:20240909T072726Z
URL:https://breathemiami.us/events/historic-ghost-tours/
SUMMARY:Historic Ghost Tours
DESCRIPTION:Step back in time and uncover the mysteries of the Deering Esta
 te with a Historic Ghost Tour\, where history and the paranormal come toge
 ther in a spine-tingling journey. Guided by knowledgeable storytellers\, y
 ou'll explore the rich history of the estate while learning about its prev
 ious inhabitants\, significant events\, and the eerie paranormal encounter
 s experienced by visitors and staff alike. Walk along the very paths once 
 traveled by Indigenous peoples\, Miami’s early settlers\, and even Charl
 es Deering himself\, as the past comes to life in this captivating tour.\n
 \nCome prepared for an immersive experience—closed-toe shoes are require
 d\, and don’t forget to bring a flashlight and some mosquito repellent f
 or your comfort. The tour offers limited use of paranormal investigation t
 ools\, such as pendulums\, dowsing rods\, and EMF meters\, but feel free t
 o bring your own equipment and cameras to capture any ghostly encounters! 
 Be advised\, some of the subject matter may be mature\, making this progra
 m suitable for adults and youth ages 9 and older.\n\nCheck-in begins at th
 e Main Gate\, and we ask that you arrive 15 minutes before the start of th
 e event. The tour begins promptly as scheduled\, and late arrivals will un
 fortunately not be accommodated. Don't miss your chance to walk through hi
 story—if you dare!\n\n\nGET TICKETS\n\n
ATTACH;FMTTYPE=image/jpeg:https://breathemiami.us/wp-content/uploads/2024/
 09/Historic-Ghost-Tours.jpg
CATEGORIES:Things To Do
LOCATION:Deering Estate\, 16701 SW 72nd Avenue\, Miami\, Florida\, 33157\, 
 FL\, United States
X-APPLE-STRUCTURED-LOCATION;VALUE=URI;X-ADDRESS=16701 SW 72nd Avenue\, Miam
 i\, Florida\, 33157\, FL\, United States;X-APPLE-RADIUS=100;X-TITLE=Deerin
 g Estate:geo:0,0
END:VEVENT
BEGIN:VTIMEZONE
TZID:America/New_York
X-LIC-LOCATION:America/New_York
BEGIN:DAYLIGHT
DTSTART:20240310T030000
TZOFFSETFROM:-0500
TZOFFSETTO:-0400
TZNAME:EDT
END:DAYLIGHT
END:VTIMEZONE
END:VCALENDAR