BEGIN:VCALENDAR
VERSION:2.0
PRODID:-//wp-events-plugin.com//7.2.3.1//EN
TZID:America/New_York
X-WR-TIMEZONE:America/New_York
BEGIN:VEVENT
UID:1058@breathemiami.us
DTSTART;TZID=America/New_York:20241024T190000
DTEND;TZID=America/New_York:20241024T210000
DTSTAMP:20241013T081208Z
URL:https://breathemiami.us/events/hispanic-performing-arts-festival/
SUMMARY:Hispanic Performing Arts Festival
DESCRIPTION:The Hispanic Performing Arts Festival is an annual celebration 
 dedicated to honoring the rich tapestry of Hispanic heritage through a vib
 rant showcase of artistic performances. Scheduled for October 24\, 2024\, 
 this exciting event will take place at the historic Manuel Artime Theater 
 in Miami\, a venue renowned for its commitment to cultural expression.\n\n
 This year’s festival promises an exhilarating lineup that spans various 
 artistic genres\, including Zarzuela\, Flamenco\, Spanish Ballet\, and Cla
 ssical Hispanic Music. Attendees will be treated to captivating performanc
 es from renowned groups such as the A Tempo Ensemble and Stellar Dance Fus
 ion\, alongside talented opera and zarzuela singers. Each act is designed 
 to immerse the audience in the beauty and diversity of Hispanic performing
  arts\, creating an unforgettable experience that resonates with cultural 
 pride and artistic excellence.\n\nThe festival not only serves as a platfo
 rm for showcasing the exceptional talents of Hispanic artists but also aim
 s to commemorate Hispanic Heritage Month. It seeks to attract both local a
 ttendees and tourists\, contributing significantly to the cultural and eco
 nomic vitality of Miami-Dade County. By engaging local communities and pro
 moting diverse cultural expressions\, the festival fosters a deeper apprec
 iation for the performing arts within the Hispanic community and beyond.\n
 \nThe Hispanic Performing Arts Festival is more than just a series of perf
 ormances\; it is a heartfelt celebration of identity\, heritage\, and comm
 unity. Attendees can look forward to an enriching evening filled with live
 ly performances\, cultural dialogue\, and the spirit of togetherness\, mak
 ing it a highlight of Miami's cultural calendar. Join in the festivities a
 nd be part of this remarkable celebration of Hispanic culture!\n\nGET TICK
 ETS\n
ATTACH;FMTTYPE=image/jpeg:https://breathemiami.us/wp-content/uploads/2024/
 10/Hispanic-Performing-Arts-Festival.jpg
CATEGORIES:Food &amp; Drink Events,Things To Do
LOCATION:Manuel Artime Theatre\, 900 Southwest 1st Street Miami\, Miami\, F
 lorida\, 33130\, FL\, United States
X-APPLE-STRUCTURED-LOCATION;VALUE=URI;X-ADDRESS=900 Southwest 1st Street Mi
 ami\, Miami\, Florida\, 33130\, FL\, United States;X-APPLE-RADIUS=100;X-TI
 TLE=Manuel Artime Theatre:geo:0,0
END:VEVENT
BEGIN:VTIMEZONE
TZID:America/New_York
X-LIC-LOCATION:America/New_York
BEGIN:DAYLIGHT
DTSTART:20240310T030000
TZOFFSETFROM:-0500
TZOFFSETTO:-0400
TZNAME:EDT
END:DAYLIGHT
END:VTIMEZONE
END:VCALENDAR