BEGIN:VCALENDAR
VERSION:2.0
PRODID:-//wp-events-plugin.com//7.2.3.1//EN
TZID:America/New_York
X-WR-TIMEZONE:America/New_York
BEGIN:VEVENT
UID:159@breathemiami.us
DTSTART;TZID=America/New_York;VALUE=DATE:20231112
DTEND;TZID=America/New_York;VALUE=DATE:20231113
DTSTAMP:20231020T011601Z
URL:https://breathemiami.us/events/heritage-fuego-miami-culinary-experienc
 e/
SUMMARY:Heritage Fuego - Miami Culinary experience
DESCRIPTION:Are you ready to ignite your culinary passions? Don't let the H
 eritage Fuego event\, brought to you by Goya Foods\, slip through your fin
 gers! Join them on November 12\, 2023\, at The Biltmore Hotel.\n\nHeritage
  Fire is an al fresco gastronomic adventure that unites local chefs and re
 nowned brands for an exhilarating live-fire celebration. With a diverse li
 neup of over 20 participants\, attendees will relish an all-inclusive banq
 uet while basking in the ambiance of crackling flames. Immerse yourself in
  a myriad of flavors from around the world\, paired with top-notch beverag
 es\, all within a one-of-a-kind and unforgettable atmosphere.\n\nCurious a
 bout what we mean by 'diverse cuisine'? Explore it right here.\n\nOnce you
 've savored each delectable dish\, the title of 'Best Bite of the Day' wil
 l be decided by the crowd\, and a champion will be crowned. Don't forget t
 o check out last year's Heritage Hero Champions.\nGET TICKETS
ATTACH;FMTTYPE=image/jpeg:https://breathemiami.us/wp-content/uploads/2023/
 10/2.png
CATEGORIES:Food &amp; Drink Events
LOCATION:The Biltmore Hotel Miami\, 1201 Anastasia Ave\, Coral Gables\, Mia
 mi\, 33134\, Florida\, United States
X-APPLE-STRUCTURED-LOCATION;VALUE=URI;X-ADDRESS=1201 Anastasia Ave\, Coral 
 Gables\, Miami\, 33134\, Florida\, United States;X-APPLE-RADIUS=100;X-TITL
 E=The Biltmore Hotel Miami:geo:0,0
END:VEVENT
BEGIN:VTIMEZONE
TZID:America/New_York
X-LIC-LOCATION:America/New_York
BEGIN:STANDARD
DTSTART:20231105T010000
TZOFFSETFROM:-0400
TZOFFSETTO:-0500
TZNAME:EST
END:STANDARD
END:VTIMEZONE
END:VCALENDAR