BEGIN:VCALENDAR
VERSION:2.0
PRODID:-//wp-events-plugin.com//7.2.3.1//EN
TZID:America/New_York
X-WR-TIMEZONE:America/New_York
BEGIN:VEVENT
UID:400@breathemiami.us
DTSTART;TZID=America/New_York:20240420T140000
DTEND;TZID=America/New_York:20240420T180000
DTSTAMP:20240318T175714Z
URL:https://breathemiami.us/events/her-power-womens-empowerment-brunch/
SUMMARY:"HER" Power- Women's Empowerment Brunch
DESCRIPTION:\nUnleash Your Inner Power: Women's Empowerment Brunch with Her
  Perspective Inc.\nCalling all phenomenal women! Join Her Perspective Inc.
  for their "HER" Power Brunch\, an afternoon dedicated to celebrating your
  strength\, resilience\, and inner fire.\nThis empowering event offers:\n\
 n\n 	Inspiring Connections: Network with like-minded women and build meani
 ngful relationships.\n 	Empowering Talks: Hear from powerful speakers who 
 will ignite your passion and equip you with tools for success.\n 	Deliciou
 s Brunch: Savor a delicious Haitian cuisine brunch\, fueling your body and
  spirit.\n 	Supportive Atmosphere: Immerse yourself in a space overflowing
  with positivity and encouragement.\n\nUnwind\, Heal &amp\; Embrace Your P
 ower:\n\n\n 	Relaxation &amp\; Self-Care: Experience sound healing\, yoga\
 , breathwork\, and guided meditation led by a wellness expert.\n 	Creative
  Expression: Ignite your creativity with a fun and engaging candle-making 
 workshop.\n 	Beauty &amp\; Wellness: Treat yourself to pampering facials\,
  massages\, and self-care tips from local female entrepreneurs.\n 	Live En
 tertainment &amp\; Special Guests: Enjoy captivating performances and insi
 ghtful talks by inspiring leaders.\n\nEmpowering the Future:\nAll proceeds
  from this event support Her Perspective Inc.'s Youth Perspective Enrichme
 nt Academy Summer Program and Emergency Fund\, empowering young women to r
 each their full potential.\nDress Code: Embrace femininity and floral powe
 r by wearing floral prints or soft solid colors. A special prize awaits th
 e best-dressed attendee!\nMark Your Calendar:\n\n\n 	Date: Saturday\, Apri
 l 20th\, 2024\n 	Time: 2:00 PM\n 	Location: Co-Space Miami Gardens (17560 
 NW 27th Ave ste 105)\n\nDon't miss this opportunity to connect\, celebrate
 \, and reinforce your inner power!\nHer Perspective Inc.: Building a Brigh
 ter Future for Women &amp\; Girls\nBecome a Sponsor or Vendor!\nSupport th
 is empowering event and connect with a passionate female audience. Contact
  Her Perspective Inc. today to learn more!\n\n\n\n\nBUY TICKETS\n\n
ATTACH;FMTTYPE=image/jpeg:https://breathemiami.us/wp-content/uploads/2024/
 03/https___cdn.evbuc_.com_images_715282979_152739486194_1_original.jpeg
CATEGORIES:Wellness Events
LOCATION:17560 NW\, 27th Avenue #ste 105 \, Miami Gardens\, Florida\, 33056
 \, United States
X-APPLE-STRUCTURED-LOCATION;VALUE=URI;X-ADDRESS=27th Avenue #ste 105 \, Mia
 mi Gardens\, Florida\, 33056\, United States;X-APPLE-RADIUS=100;X-TITLE=17
 560 NW:geo:0,0
END:VEVENT
BEGIN:VTIMEZONE
TZID:America/New_York
X-LIC-LOCATION:America/New_York
BEGIN:DAYLIGHT
DTSTART:20240310T030000
TZOFFSETFROM:-0500
TZOFFSETTO:-0400
TZNAME:EDT
END:DAYLIGHT
END:VTIMEZONE
END:VCALENDAR