BEGIN:VCALENDAR
VERSION:2.0
PRODID:-//wp-events-plugin.com//7.2.3.1//EN
TZID:America/New_York
X-WR-TIMEZONE:America/New_York
BEGIN:VEVENT
UID:1151@breathemiami.us
DTSTART;TZID=America/New_York:20241101T173000
DTEND;TZID=America/New_York:20241101T230000
DTSTAMP:20241023T093033Z
URL:https://breathemiami.us/events/heartland-fest-ft-king-waggy-tee/
SUMMARY:Heartland Fest ft King Waggy Tee
DESCRIPTION:On Friday\, November 1\, the Little Haiti Cultural Complex will
  come alive with the vibrant sounds and colors of the Caribbean during Hea
 rtland Fest. This exciting celebration of Caribbean art and music is free 
 to attend and promises a culturally enriching experience for all who join.
 \n\nThe festivities will kick off at 5:30 p.m. with the Haiti in the Heart
 land art exhibition\, presented by the Haitian Cultural Arts Alliance. Thi
 s exhibition will showcase the rich artistic heritage and contemporary exp
 ressions of Haitian culture\, setting the tone for an evening filled with 
 creativity and community.\n\nAt 7:00 p.m.\, the event will transition into
  a lively Pan-Caribbean party\, featuring a dynamic mix of genres such as 
 dancehall\, soca\, kompa\, zouk\, and afrobeats. Renowned DJs King Waggy T
 ee\, DJ Mixx of ReggaeBoyz Sound\, and DJ Mack will take to the turntables
 \, ensuring that the dance floor is electrified with infectious rhythms.\n
 \nAdding to the festive atmosphere\, attendees will also enjoy a captivati
 ng live performance by the NSL Danse Ensemble\, showcasing the rich cultur
 al traditions of the Caribbean through dance.\n\nTo secure a spot at this 
 vibrant celebration\, an RSVP is required for entry. Heartland Fest promis
 es to be an unforgettable evening of music\, art\, and cultural exchange\,
  inviting all to immerse themselves in the heart of Caribbean heritage.\n\
 nGET TICKETS\n
ATTACH;FMTTYPE=image/jpeg:https://breathemiami.us/wp-content/uploads/2024/
 10/Heartland-Fest-at-Little-Haiti-Cultural-Complex-ft-King-Waggy-Tee.jpg
CATEGORIES:Things To Do
LOCATION:Little Haiti Cultural Complex\, 212 Northeast 59th Terrace Miami\,
  Miami\, Florida\, 33137\, FL\, United States
X-APPLE-STRUCTURED-LOCATION;VALUE=URI;X-ADDRESS=212 Northeast 59th Terrace 
 Miami\, Miami\, Florida\, 33137\, FL\, United States;X-APPLE-RADIUS=100;X-
 TITLE=Little Haiti Cultural Complex:geo:0,0
END:VEVENT
BEGIN:VTIMEZONE
TZID:America/New_York
X-LIC-LOCATION:America/New_York
BEGIN:DAYLIGHT
DTSTART:20240310T030000
TZOFFSETFROM:-0500
TZOFFSETTO:-0400
TZNAME:EDT
END:DAYLIGHT
END:VTIMEZONE
END:VCALENDAR