BEGIN:VCALENDAR
VERSION:2.0
PRODID:-//wp-events-plugin.com//7.2.3.1//EN
TZID:America/New_York
X-WR-TIMEZONE:America/New_York
BEGIN:VEVENT
UID:1338@breathemiami.us
DTSTART;TZID=America/New_York:20251012T110000
DTEND;TZID=America/New_York:20251012T140000
DTSTAMP:20251007T153807Z
URL:https://breathemiami.us/events/heart-wave-ritual-cacao-ecstatic-dance-
 featuring-dto/
SUMMARY:Heart Wave Ritual- Cacao Ecstatic Dance Featuring DTO
DESCRIPTION:\n\nAbout the event\n\n\n\n\n\n\n\n\nHeart Wave Ritual\nExpansi
 on Ecstatic Dance Miami at Faena Forum\nSunday Oct. 12th | 11:00 AM – 2
 :00 PM\n\n \nJoin us for a heart-opening daytime experience designed to 
 awaken your spirit\, move your body\, and connect with community in a trul
 y transformative way. 🌊❤️\nSet inside the breathtaking Faena Forum
  on Miami Beach\, this special gathering brings together movement\, music
 \, cacao\, and community to create a sanctuary for connection and express
 ion.\nALL AGES WELCOME\nColor Theme- Please wear WHITE &amp\; GOLD \n\n \
 nThe Journey\n✨ Yoga &amp\; Cacao Ritual with Agustina\nBegin the mornin
 g by grounding into your body through a gentle and intentional yoga flow g
 uided by Agustina\, followed by a sacred cacao ceremony to open the heart 
 and set intentions for the journey ahead.\n\n \n🍫 Cacao by Reza Cacao\
 nOur cacao will be provided by Reza Cacao\, offering a rich and heart-open
 ing ceremonial blend to deepen your experience and connection.\n\n \n🎵
  Ecstatic Dance with DTO (Costa Rica)\nFeel the rhythm and surrender to th
 e beat as internationally renowned music producer &amp\; DJ DTO guides u
 s through an uplifting ecstatic dance set. His music seamlessly blends dee
 p grooves\, soulful melodies\, and high-vibe soundscapes to move you into 
 pure freedom and expression.\n\n \n🌟 Hosted by Jenergy\nThe visionary 
 creator of EXPANSION Ecstatic Dance Miami\, Jenergy will hold space for c
 onnection\, authenticity\, and transformation throughout the experience.\n
 \n \nEvent Flow\n\n 	\n10:45 AM – Doors Open / Arrival &amp\; Vendor M
 arketplace Opens\n\n 	\n11:00 AM – Yoga with Agustina\n\n 	\n11:45 AM 
 – Cacao Ritual &amp\; Opening Circle with Agustina &amp\; Jenergy\n\n 	\
 n12:00 PM – Ecstatic Dance with DTO\n\n 	\n1:45 PM – Closing Circle\
 n\n 	\n2:00 PM – Event Ends\n\n \n\nVendors &amp\; Community Space\nEx
 plore our curated vendor marketplace before and after the journey! Discove
 r unique offerings including wellness products\, artisan creations\, and n
 ourishing treats to support your mind\, body\, and spirit.\n\n \nWhat to 
 Bring\n\n 	\nComfortable clothes to move in\n\n 	\nWater bottle to stay hy
 drated\n\n 	\nCuriosity\, playfulness\, and an open heart ❤️\n\n \n\n
 Details\n📍 Location: Faena Forum\, Miami Beach\n🕚 Time: 11:00 AM 
 – 2:00 PM\n🌱 All ages welcome — family-friendly environment\n\n \n
 Come dance\, connect\, and experience the magic of Heart Wave Ritual.\n\n
  \nSpaces are limited — reserve your spot and be part of this powerful 
 daytime celebration of music\, movement\, and community.\n\n \nAbout The 
 Artists/ Facilitators \n \nDTO is an award-winning music producer\, desig
 ning inspirational music that raises the vibrations of the planet. DTO kic
 ked off his career with a spark with his remix of “Love Me” by Grammy-
 nominated producer\, StoneBridge. DTO followed up with Nameless Energy\, a
  yoga soundtrack recognized by Deepak Chopra for the kirtan project “Jai
  Ram” ft. Tara Devi. \nNameless Energy is a music playlist guiding yoga 
 instructors and students through a 60-minute yoga class. This album has in
 tegrated into the yoga world as an inspiring\, healing\, and transformatio
 nal musical journey.\nIG @dtomusic\n\n \nJenergy &amp\; Ecstatic Flow\nJe
 nergy is a visionary performance artist\, DJ\, ecstatic dance facilitator\
 , and founder of Ecstatic Flow\, a project dedicated to providing transfor
 mative experiences that inspire connection\, healing\, and self-discovery.
  With a passion for unity\, authentic expression\, and the remembrance of 
 oneness\, Jenergy curates events such as EXPANSION Ecstatic Dance Miami em
 powering individuals to explore freedom through movement\, creativity\, an
 d emotional release.\n\n \nA lifelong dancer and creative soul\, Jenergy 
 combines her talents as a prayerformance artist\, healer\, and movement te
 acher to guide others on their journey of transformation. She also curates
  immersive embodiment retreats\, and collaborates with world-class artists
  and healers to blend music\, sound healing\, and dance into unforgettable
  experiences.\nIG @Jenergy_Flow108\n@Ecstatic_Flow108\n@EXPANSION_Ecstatic
 DanceMiami\n\n \nAgustina\nAgustina Caminos is an accomplished spa develo
 pment expert and wellness programming specialist with over 17 years of exp
 erience at international locales including Faena Hotels. Her expertise enc
 ompasses a deep understanding of spa operations\, concept development\, an
 d holistic wellness practices.\nAgustina uniquely blends her professional 
 skills with her spiritual background\, rooted in her family’s legacy of 
 yogis and healers. She excels in creating culturally rich\, innovative wel
 lness programs that integrate spirit\, mind\, and body ensuring each proje
 ct not only meets international standards but also resonates deeply with i
 ts clientele.\nIG @Agustina.FreeSpirit\n@TierraSantaFaena\n@RezaCacao\n\n
  \n\n\n\n\n\n\n\n\n\n\n\n\n\n\n\n\n\n\n\n\n\n\n\n\n\n\n\n\n\n\n\n\n\n\n\n
 \n\n\n\n\n\n\n\n\n\n\n\n\n\n\n\n\n\n\n\n\n\n\n\n\n\n\n\n\n\n\n\n\n\n\n\n\n
 \n\n\n\n\n\n\n\n\n\n\n
ATTACH;FMTTYPE=image/jpeg:https://breathemiami.us/wp-content/uploads/2025/
 09/c1e547_274db3c225c14740b0bfad84eacb505fmv2.avif
CATEGORIES:Mindfulness Events,Things To Do,Wellness Events,Yoga Events
LOCATION:Faena Forum\,  3300-3398 Collins Avenue\, Miami Beach\, Florida\, 
 33140\, United States
X-APPLE-STRUCTURED-LOCATION;VALUE=URI;X-ADDRESS= 3300-3398 Collins Avenue\,
  Miami Beach\, Florida\, 33140\, United States;X-APPLE-RADIUS=100;X-TITLE=
 Faena Forum:geo:0,0
END:VEVENT
BEGIN:VTIMEZONE
TZID:America/New_York
X-LIC-LOCATION:America/New_York
BEGIN:DAYLIGHT
DTSTART:20250309T030000
TZOFFSETFROM:-0500
TZOFFSETTO:-0400
TZNAME:EDT
END:DAYLIGHT
END:VTIMEZONE
END:VCALENDAR