BEGIN:VCALENDAR
VERSION:2.0
PRODID:-//wp-events-plugin.com//7.2.3.1//EN
TZID:America/New_York
X-WR-TIMEZONE:America/New_York
BEGIN:VEVENT
UID:985@breathemiami.us
DTSTART;TZID=America/New_York:20241019T180000
DTEND;TZID=America/New_York:20241019T210000
DTSTAMP:20241003T111313Z
URL:https://breathemiami.us/events/heart-activating-reiki-and-sound-healin
 g-journey-with-sacred-cacao/
SUMMARY:Heart Activating Reiki and Sound Healing Journey with Sacred Cacao
DESCRIPTION:In a serene gathering at the enchanting Peacemaker Studio\, par
 ticipants will embark on a heart-opening journey designed to reconnect the
 m with their true selves. This intimate circle invites individuals to set 
 their intentions before a beautiful flower mandala\, allowing them to medi
 tate and cultivate a deeper connection to their hearts.\n\nThe experience 
 will be enhanced by a transformative Cacao Ceremony led by Fabiola of @mys
 ecretlab. Following this sacred ritual\, attendees will lie down for a hea
 ling Sound Bath and receive Reiki treatment from @najinihealingspace. Toge
 ther\, Nadine and Fabiola will guide participants through a soothing Sound
  Healing journey\, activating and healing the heart to foster inner peace 
 and self-discovery.\n\nTo prepare for this profound experience\, participa
 nts are encouraged to bring a yoga mat for comfort\, a blanket for warmth\
 , a filled water bottle\, and an open heart ready to embrace the healing p
 rocess.\n\nThe event will take place from 6:00 PM to 9:00 PM. For those lo
 oking to register\, there is an option to pay directly via Zelle at najini
 healing@gmail.com or through the phone number 754-231-7076. A payment of $
 67 is required\, and attendees should include their name\, email\, and pho
 ne number in the notes section to complete their registration.\n\nNajini a
 nd Fabiola look forward to embarking on this healing journey with you. Fol
 low their healing journeys on Instagram at @najinihealingspace and @mysecr
 etlab. Embrace the blessings of this unique experience and reconnect with 
 your heart's true essence.\n\nGET TICKETS\n
ATTACH;FMTTYPE=image/jpeg:https://breathemiami.us/wp-content/uploads/2024/
 10/Heart-Activating-Reiki-Sound-Healing-Journey-with-Sacred-Cacao.jpg
CATEGORIES:Wellness Events
LOCATION:The Peacemaker Studio (on 2nd floor)\, 12100 Southwest 43rd Street
  suite 275\, Miami\, Florida\, 33175\, FL\, United States
X-APPLE-STRUCTURED-LOCATION;VALUE=URI;X-ADDRESS=12100 Southwest 43rd Street
  suite 275\, Miami\, Florida\, 33175\, FL\, United States;X-APPLE-RADIUS=1
 00;X-TITLE=The Peacemaker Studio (on 2nd floor):geo:0,0
END:VEVENT
BEGIN:VTIMEZONE
TZID:America/New_York
X-LIC-LOCATION:America/New_York
BEGIN:DAYLIGHT
DTSTART:20240310T030000
TZOFFSETFROM:-0500
TZOFFSETTO:-0400
TZNAME:EDT
END:DAYLIGHT
END:VTIMEZONE
END:VCALENDAR