BEGIN:VCALENDAR
VERSION:2.0
PRODID:-//wp-events-plugin.com//7.2.3.1//EN
TZID:America/New_York
X-WR-TIMEZONE:America/New_York
BEGIN:VEVENT
UID:928@breathemiami.us
DTSTART;TZID=America/New_York:20241018T120000
DTEND;TZID=America/New_York:20241018T160000
DTSTAMP:20240930T062538Z
URL:https://breathemiami.us/events/health-wellness-and-heritage-on-calle-o
 cho/
SUMMARY:HEALTH\, WELLNESS\, AND HERITAGE ON CALLE OCHO
DESCRIPTION:Little Havana\, one of Miami’s most dynamic and rapidly growi
 ng neighborhoods\, is set to host the Calle Ocho News "Hispanic Heritage C
 elebration\," providing an incredible opportunity for brands to create a m
 eaningful impact within the local community. Known as the heart of Hispani
 c culture in Miami\, Calle Ocho is a vibrant neighborhood that reflects th
 e spirit and diversity of its residents—both longtime locals and new arr
 ivals. This event embodies the unity that connects us all.\n\nAs part of t
 his year’s festivities\, the celebration will proudly introduce the “H
 ealth\, Wellness\, and Heritage” segment\, a four-hour special event ded
 icated to honoring the seniors of Little Havana\, Allapatah\, the City of 
 Miami\, and Sweetwater. This uplifting gathering will be filled with enric
 hing experiences\, including a delicious complimentary lunch\, live entert
 ainment that showcases local talent\, and engaging arts and crafts activit
 ies.\n\nAttendees can also participate in lively domino games\, a cherishe
 d tradition in the community\, creating an atmosphere of camaraderie and j
 oy. To express gratitude for their participation\, each senior will receiv
 e a thoughtfully curated gift bag\, filled with items that reflect the spi
 rit of the celebration and the appreciation we hold for our local seniors.
 \n\nThis event promises to be a heartwarming celebration of heritage\, com
 munity\, and well-being\, bringing together generations in a festive atmos
 phere that honors the rich cultural tapestry of the area. Join us in celeb
 rating our past\, present\, and future as we uplift and recognize the cont
 ributions of our beloved seniors!\n\nGET TICKETS\n
ATTACH;FMTTYPE=image/jpeg:https://breathemiami.us/wp-content/uploads/2024/
 09/HEALTH-WELLNESS-AND-HERITAGE-ON-CALLE-OCHO.jpg
CATEGORIES:Things To Do
LOCATION:THE HAVANA COLLECTION\, 1421 Southwest 8th Street \, Miami\, Flori
 da\, 33135\, FL\, United States
X-APPLE-STRUCTURED-LOCATION;VALUE=URI;X-ADDRESS=1421 Southwest 8th Street \
 , Miami\, Florida\, 33135\, FL\, United States;X-APPLE-RADIUS=100;X-TITLE=
 THE HAVANA COLLECTION:geo:0,0
END:VEVENT
BEGIN:VTIMEZONE
TZID:America/New_York
X-LIC-LOCATION:America/New_York
BEGIN:DAYLIGHT
DTSTART:20240310T030000
TZOFFSETFROM:-0500
TZOFFSETTO:-0400
TZNAME:EDT
END:DAYLIGHT
END:VTIMEZONE
END:VCALENDAR