BEGIN:VCALENDAR
VERSION:2.0
PRODID:-//wp-events-plugin.com//7.2.3.1//EN
TZID:America/New_York
X-WR-TIMEZONE:America/New_York
BEGIN:VEVENT
UID:345@breathemiami.us
DTSTART;TZID=America/New_York:20240427T100000
DTEND;TZID=America/New_York:20240427T140000
DTSTAMP:20240302T004838Z
URL:https://breathemiami.us/events/health-and-wellness-conference/
SUMMARY:Southeast Region Hope Health Ministry-Health and Wellness Conferenc
 e
DESCRIPTION:The conference revolves around the promotion of health and well
 ness through the introduction of diverse concepts. Health\, encompassing a
 n individual's physical well-being\, is intricately linked with wellness
 —a dynamic process involving the adoption of healthy habits to attain op
 timal health. It extends beyond mere physicality\, emphasizing the importa
 nce of maintaining a high quality of life across various dimensions. Achie
 ving this holistic wellness is pivotal for fostering improved physical and
  mental outcomes\, underscoring its significance in leading a vibrant life
 .\n\nMoreover\, the conference delves into the role of faith and its poten
 tial to enrich one's daily journey with Christ\, thereby contributing to w
 ellness amidst the complexities of contemporary living. This exploration h
 ighlights the interconnectedness between spiritual nourishment and overall
  well-being\, shedding light on how faith practices can complement and enh
 ance the pursuit of holistic health.\n\nIn essence\, the conference aims t
 o provide a comprehensive understanding of health and wellness\, emphasizi
 ng the integration of various factors—physical\, mental\, and spiritual
 —in cultivating a balanced and fulfilling life. Through insightful discu
 ssions and practical insights\, attendees will gain valuable knowledge and
  strategies to nurture their well-being and thrive in today's fast-paced w
 orld.\n\n&nbsp\;\n\nReserve your Spot Now\n
ATTACH;FMTTYPE=image/jpeg:https://breathemiami.us/wp-content/uploads/2024/
 03/https___cdn.evbuc_.com_images_685344879_1017647513493_1_original.jpeg
CATEGORIES:Things To Do,Wellness Events
LOCATION:1899 NW 64th St Miami\, 1899 NW 64th St \, Miami\, Florida\, 33147
  \, United States
X-APPLE-STRUCTURED-LOCATION;VALUE=URI;X-ADDRESS=1899 NW 64th St \, Miami\, 
 Florida\, 33147 \, United States;X-APPLE-RADIUS=100;X-TITLE=1899 NW 64th S
 t Miami:geo:0,0
END:VEVENT
BEGIN:VTIMEZONE
TZID:America/New_York
X-LIC-LOCATION:America/New_York
BEGIN:DAYLIGHT
DTSTART:20240310T030000
TZOFFSETFROM:-0500
TZOFFSETTO:-0400
TZNAME:EDT
END:DAYLIGHT
END:VTIMEZONE
END:VCALENDAR