BEGIN:VCALENDAR
VERSION:2.0
PRODID:-//wp-events-plugin.com//7.2.3.1//EN
TZID:America/New_York
X-WR-TIMEZONE:America/New_York
BEGIN:VEVENT
UID:572@breathemiami.us
DTSTART;TZID=America/New_York:20240725T174500
DTEND;TZID=America/New_York:20240725T193000
DTSTAMP:20240623T213229Z
URL:https://breathemiami.us/events/healing-your-inner-child-adult-group-th
 erapy/
SUMMARY:Healing Your Inner Child - Adult Group Therapy
DESCRIPTION:Embark on a profound journey of healing and self-discovery with
  Healing Your Inner Child - Adult Group Therapy at Self Love Harbor. This 
 transformative event invites participants to delve into the depths of thei
 r inner selves\, fostering healing and emotional growth.\n\nExperience Ove
 rview:\n\nAt Healing Your Inner Child - Adult Group Therapy\, participants
  gather in a supportive environment dedicated to exploring and nurturing t
 heir inner child. Led by experienced therapists\, this in-person session p
 rovides a safe space for individuals to reconnect with their younger selve
 s\, understand past experiences\, and address emotional wounds that may st
 ill impact their lives.\n\nKey Elements of the Session:\n\nThrough a blend
  of group activities\, guided discussions\, and therapeutic exercises\, at
 tendees will embark on a journey of self-discovery and healing. The sessio
 n encourages deep introspection\, allowing participants to uncover and pro
 cess emotions\, memories\, and patterns rooted in their childhood. By nurt
 uring the inner child within\, individuals can cultivate self-compassion\,
  promote healing\, and enhance their overall emotional well-being.\n\nBene
 fits of Attending:\n\nParticipating in Healing Your Inner Child - Adult Gr
 oup Therapy offers numerous benefits\, including:\n\n 	Emotional Healing: 
 Address unresolved childhood issues and emotional wounds.\n 	Self-Discover
 y: Gain insights into your inner self and past experiences.\n 	Self-Love P
 romotion: Learn techniques to nurture and love your inner child.\n 	Suppor
 tive Community: Connect with others on a similar journey\, fostering mutua
 l understanding and support.\n 	Personal Growth: Take significant steps to
 wards personal development and emotional resilience.\n\nWho Should Attend:
 \n\nThis therapy session is ideal for anyone seeking to heal and grow emot
 ionally\, particularly those who wish to explore and heal their inner chil
 d. Whether you're grappling with past traumas\, seeking self-understanding
 \, or simply striving for greater emotional well-being\, Healing Your Inne
 r Child - Adult Group Therapy offers a nurturing space to begin or continu
 e your healing journey.\n\nJoin us at Self Love Harbor for Healing Your In
 ner Child - Adult Group Therapy and embark on a path of profound emotional
  healing and personal growth. Reserve your spot today and take the importa
 nt step towards nurturing your inner child and fostering self-love. We loo
 k forward to welcoming you to this transformative experience!\n\nGET TICKE
 TS\n
ATTACH;FMTTYPE=image/jpeg:https://breathemiami.us/wp-content/uploads/2024/
 06/Healing-Your-Inner-Child-Adult-Group-Therapy.jpg
CATEGORIES:Mindfulness Events,Wellness Events
LOCATION:Self Love Harbor\, 17800 West Dixie Highway North Miami Beach\, Mi
 ami\, Florida\, 33160\,  FL \, United States
X-APPLE-STRUCTURED-LOCATION;VALUE=URI;X-ADDRESS=17800 West Dixie Highway No
 rth Miami Beach\, Miami\, Florida\, 33160\,  FL \, United States;X-APPLE-R
 ADIUS=100;X-TITLE=Self Love Harbor:geo:0,0
END:VEVENT
BEGIN:VTIMEZONE
TZID:America/New_York
X-LIC-LOCATION:America/New_York
BEGIN:DAYLIGHT
DTSTART:20240310T030000
TZOFFSETFROM:-0500
TZOFFSETTO:-0400
TZNAME:EDT
END:DAYLIGHT
END:VTIMEZONE
END:VCALENDAR