BEGIN:VCALENDAR
VERSION:2.0
PRODID:-//wp-events-plugin.com//7.2.3.1//EN
TZID:America/New_York
X-WR-TIMEZONE:America/New_York
BEGIN:VEVENT
UID:926@breathemiami.us
DTSTART;TZID=America/New_York:20241003T190000
DTEND;TZID=America/New_York:20241003T220000
DTSTAMP:20240930T061805Z
URL:https://breathemiami.us/events/healing-mens-circle/
SUMMARY:Healing Men’s Circle
DESCRIPTION:Step into a space of connection\, growth\, and transformation a
 t the Healing Men's Circle\, where brotherhood and deep conversation meet 
 sacred masculine wisdom. This gathering is designed to provide men with th
 e opportunity to bond\, share\, and explore their personal journeys in a s
 upportive environment.\n\nThe circle will focus on sacred masculinity and 
 the alchemical process of inner transformation. Participants will engage i
 n a meaningful discussion about the core essence of life—often referred 
 to in ancient alchemy as the "prima materia"—and how these timeless prin
 ciples can guide men toward their higher selves.\n\nThrough open dialogue 
 and shared experiences\, this Men's Circle will encourage participants to 
 reflect on their emotional\, spiritual\, and personal growth. The process 
 draws upon the metaphors of traditional alchemy\, illustrating the metamor
 phosis from one’s base state to a higher\, refined self. Together\, atte
 ndees will explore how embracing this evolution can lead to greater clarit
 y\, purpose\, and fulfillment in life.\n\nThe evening will also provide li
 ght refreshments\, adding to the warm and inviting atmosphere that fosters
  connection and self-reflection.\n\nThis circle is an invitation to be par
 t of a community that values authenticity\, emotional resilience\, and the
  transformative power of self-awareness. Whether you are just beginning yo
 ur journey or are already on the path of personal development\, this gathe
 ring is open to all who seek deeper understanding and growth.\n\nWe look f
 orward to welcoming you into this circle of brotherhood. Join us and embar
 k on a journey toward becoming the best version of yourself!\n\nGET TICKET
 S\n
ATTACH;FMTTYPE=image/jpeg:https://breathemiami.us/wp-content/uploads/2024/
 09/Healing-Mens-Circle.jpg
CATEGORIES:Things To Do,Wellness Events
LOCATION:Aya Apothecary Spa\, 638 B Northwest 62nd Street \, Miami\, Florid
 a\, 33150\, United States\, United States
X-APPLE-STRUCTURED-LOCATION;VALUE=URI;X-ADDRESS=638 B Northwest 62nd Street
  \, Miami\, Florida\, 33150\, United States\, United States;X-APPLE-RADIUS
 =100;X-TITLE=Aya Apothecary Spa:geo:0,0
END:VEVENT
BEGIN:VTIMEZONE
TZID:America/New_York
X-LIC-LOCATION:America/New_York
BEGIN:DAYLIGHT
DTSTART:20240310T030000
TZOFFSETFROM:-0500
TZOFFSETTO:-0400
TZNAME:EDT
END:DAYLIGHT
END:VTIMEZONE
END:VCALENDAR