BEGIN:VCALENDAR
VERSION:2.0
PRODID:-//wp-events-plugin.com//7.2.3.1//EN
TZID:America/New_York
X-WR-TIMEZONE:America/New_York
BEGIN:VEVENT
UID:707@breathemiami.us
DTSTART;TZID=America/New_York:20240818T110000
DTEND;TZID=America/New_York:20240818T230000
DTSTAMP:20240810T160146Z
URL:https://breathemiami.us/events/healing-heroes/
SUMMARY:Healing Heroes
DESCRIPTION:Healing Heroes is a transformative initiative dedicated to resh
 aping how we perceive and nurture relationships—starting with the relati
 onship we have with ourselves and extending to every individual we encount
 er. Our mission is to create a compassionate community where people come t
 ogether to discover authentic love\, holistic wellness\, and a deeper sens
 e of connection.\n\nAt the heart of Healing Heroes lies the belief that tr
 ue balance arises when we align our spiritual\, physical\, and mental well
 -being. This harmonious integration forms the foundation for inner peace\,
  personal growth\, and a fulfilling life. To support each person's unique 
 journey\, we offer a diverse range of practices\, from time-honored spirit
 ual traditions to cutting-edge physical therapies and innovative biohackin
 g techniques.\n\nWe recognize that personal growth often stems from life's
  challenges. Our community is guided to cultivate resilience\, transformin
 g difficulties into opportunities for profound self-discovery and empowerm
 ent. By embracing and learning from our struggles\, we move beyond merely 
 surviving—we learn to thrive.\n\nHealing Heroes is more than just a prog
 ram\; it's a movement dedicated to collective healing and individual empow
 erment. We believe that by nurturing ourselves and supporting others\, we 
 can create ripples of positive change that reach far beyond our immediate 
 circle\, ultimately contributing to a more harmonious world.\n\nSet in a l
 ush jungle retreat\, Healing Heroes fosters a deep sense of unity with nat
 ure and fellow participants. The program features:\n\n 	Musical Performanc
 es: Experience the healing power of music as it uplifts and inspires.\n 	Y
 oga Sessions: Engage in mindful movement to connect body\, mind\, and spir
 it.\n 	Breathwork Practices: Learn techniques to release stress and deepen
  self-awareness.\n 	Inspirational Speakers: Gain insights from thought lea
 ders who share their wisdom and experiences.\n 	Experiential Activities: P
 articipate in various hands-on experiences that promote personal growth an
 d community bonding.\n\nParticipants can expect to gain new insights\, acc
 ess valuable resources\, and build a supportive network of like-minded ind
 ividuals. This retreat celebrates our shared human experience while equipp
 ing you with tools for individual growth and transformation.\n\nDelicious 
 vegan and meat-option dinners will be available for purchase\, ensuring th
 at everyone is nourished and energized for this life-changing journey.\n\n
 If you're ready to explore personal development in a serene natural settin
 g\, surrounded by others who are on a similar path\, Healing Heroes is the
  perfect program for you. Join us in this transformative journey towards h
 olistic well-being\, where every step forward is a step towards a better s
 elf and a better world.\n\nGET TICKETS\n
ATTACH;FMTTYPE=image/jpeg:https://breathemiami.us/wp-content/uploads/2024/
 08/Healing-Heroes.jpg
CATEGORIES:Mindfulness Events,Nature Events,Things To Do,Wellness Events
LOCATION:Secret location\, Northeast 146th Street Biscayne Park\, Miami\, F
 lorida\, 33161\, FL\, United States
X-APPLE-STRUCTURED-LOCATION;VALUE=URI;X-ADDRESS=Northeast 146th Street Bisc
 ayne Park\, Miami\, Florida\, 33161\, FL\, United States;X-APPLE-RADIUS=10
 0;X-TITLE=Secret location:geo:0,0
END:VEVENT
BEGIN:VTIMEZONE
TZID:America/New_York
X-LIC-LOCATION:America/New_York
BEGIN:DAYLIGHT
DTSTART:20240310T030000
TZOFFSETFROM:-0500
TZOFFSETTO:-0400
TZNAME:EDT
END:DAYLIGHT
END:VTIMEZONE
END:VCALENDAR