BEGIN:VCALENDAR
VERSION:2.0
PRODID:-//wp-events-plugin.com//7.2.3.1//EN
TZID:America/New_York
X-WR-TIMEZONE:America/New_York
BEGIN:VEVENT
UID:357@breathemiami.us
DTSTART;TZID=America/New_York:20240318T130000
DTEND;TZID=America/New_York:20240318T141500
DTSTAMP:20240303T222616Z
URL:https://breathemiami.us/events/healing-breathwork-and-physical-healing
 /
SUMMARY:Healing Breathwork | Accelerate emotional and physical healing • 
 Hollywood
DESCRIPTION:Purchase a ticket to access live events and receive a 7-day bon
 us. Enjoy Healing Sessions\, Masterclasses\, and Live Breathing Classes. L
 earn more below.\n\nImmerse yourself in a 75-minute Healing Breathwork ses
 sion focused on addressing healing needs. Use breath to release emotional 
 blocks\, accelerate healing\, and receive guidance.\n\nStart your healing 
 journey with Sylvie Horvath\, a spiritual guide for over 30 years. Connect
  with your inner guide through Soul Dimension Breathing Technique\, combin
 ing ancient wisdom with modern science.\n\nExperience profound healing thr
 ough breathwork. Sylvie creates a space for transformation and healing. Te
 stimonials affirm the effectiveness of her classes.\n\nThe session is cond
 ucted online via Zoom. Access details will be sent in your confirmation em
 ail. No refunds. Access content and replays for 7 days.\n\nGet your ticket
  now and start your healing journey with Sylvie!\n\n&nbsp\;\n\n\n\nBUY TIC
 KETS\n\n
ATTACH;FMTTYPE=image/jpeg:https://breathemiami.us/wp-content/uploads/2024/
 03/https___cdn.evbuc_.com_images_688752609_462461384606_1_original-1.jpg
CATEGORIES:Wellness Events
END:VEVENT
BEGIN:VTIMEZONE
TZID:America/New_York
X-LIC-LOCATION:America/New_York
BEGIN:DAYLIGHT
DTSTART:20240310T030000
TZOFFSETFROM:-0500
TZOFFSETTO:-0400
TZNAME:EDT
END:DAYLIGHT
END:VTIMEZONE
END:VCALENDAR