BEGIN:VCALENDAR
VERSION:2.0
PRODID:-//wp-events-plugin.com//7.2.3.1//EN
TZID:America/New_York
X-WR-TIMEZONE:America/New_York
BEGIN:VEVENT
UID:132@breathemiami.us
DTSTART;TZID=America/New_York:20231028T110000
DTEND;TZID=America/New_York:20231028T120000
DTSTAMP:20231014T170902Z
URL:https://breathemiami.us/events/haunted-gingerbread-house-workshop/
SUMMARY:Haunted Gingerbread House Workshop
DESCRIPTION:Unleash your culinary creativity alongside your budding young c
 hef this Saturday\, October 28\, as you embark on an enchanting culinary a
 dventure at Taste Buds Kitchen's renowned Haunted Gingerbread House Worksh
 op. This spooktacular event promises an abundance of imaginative opportuni
 ties as you collaborate to craft and adorn your very own eerie gingerbread
  mansion. Embrace the enchanting atmosphere with a selection of spine-ting
 ling tunes and indulgent orange-flavored hot cocoa\, specially curated to 
 enhance your workshop experience. In the spirit of the season\, costumes a
 re heartily encouraged\, adding an extra layer of festive magic to this en
 chanting culinary escapade.\n\nGet Tickets!
ATTACH;FMTTYPE=image/jpeg:https://breathemiami.us/wp-content/uploads/2023/
 10/slider-_0002_taste-buds-kitchen-hero-sq-adult-classes.jpg
LOCATION:Taste Buds Kitchen\, 14740 SW 26th St. Miami\, Miami\, Florida\, F
 L 33185\, United States
X-APPLE-STRUCTURED-LOCATION;VALUE=URI;X-ADDRESS=14740 SW 26th St. Miami\, M
 iami\, Florida\, FL 33185\, United States;X-APPLE-RADIUS=100;X-TITLE=Taste
  Buds Kitchen:geo:0,0
END:VEVENT
BEGIN:VTIMEZONE
TZID:America/New_York
X-LIC-LOCATION:America/New_York
BEGIN:DAYLIGHT
DTSTART:20230312T030000
TZOFFSETFROM:-0500
TZOFFSETTO:-0400
TZNAME:EDT
END:DAYLIGHT
END:VTIMEZONE
END:VCALENDAR