BEGIN:VCALENDAR
VERSION:2.0
PRODID:-//wp-events-plugin.com//7.2.3.1//EN
TZID:America/New_York
X-WR-TIMEZONE:America/New_York
BEGIN:VEVENT
UID:1178@breathemiami.us
DTSTART;TZID=America/New_York:20241119T183000
DTEND;TZID=America/New_York:20241119T193000
DTSTAMP:20241023T172107Z
URL:https://breathemiami.us/events/hatha-yoga-the-doral-yard-2/
SUMMARY:Hatha Yoga @ The Doral Yard
DESCRIPTION:Experience a mindful\, inclusive moving meditation with Dunia i
 n this transformative Hatha Yoga class. Designed for all levels\, the prac
 tice draws from the ancient eightfold path of yoga\, blending postures tha
 t ignite your inner fire\, stretches that lengthen and relax the body\, an
 d empowering flows to connect with your breath and movement. Dunia's guida
 nce will take you on a journey of self-awareness\, alignment\, and accepta
 nce.\n\nEach session is infused with bursts of strength\, moments of still
 ness\, and insightful dharma talks to deepen your practice. Whether you're
  seeking physical flexibility or mental clarity\, this class invites you t
 o be your authentic self\, exploring your unique path at your own pace.\n\
 nExpect a holistic experience that cultivates mindfulness and encourages y
 ou to move with intention\, celebrating your body’s innate wisdom. Wheth
 er you’re a seasoned yogi or new to the practice\, Dunia's Hatha Yoga cl
 ass will support your growth\, offering a space to align your mind\, body\
 , and spirit.\n\nGET TICKETS\n
ATTACH;FMTTYPE=image/jpeg:https://breathemiami.us/wp-content/uploads/2024/
 10/Hatha-Yoga-@-The-Doral-Yard.jpg
CATEGORIES:Yoga Events
LOCATION:The Doral Yard\, 8455 Northwest 53rd Street #Suite 106 Doral\, Mia
 mi\, Florida\, 331636\,  FL \, United States
X-APPLE-STRUCTURED-LOCATION;VALUE=URI;X-ADDRESS=8455 Northwest 53rd Street 
 #Suite 106 Doral\, Miami\, Florida\, 331636\,  FL \, United States;X-APPLE
 -RADIUS=100;X-TITLE=The Doral Yard:geo:0,0
END:VEVENT
BEGIN:VTIMEZONE
TZID:America/New_York
X-LIC-LOCATION:America/New_York
BEGIN:STANDARD
DTSTART:20241103T010000
TZOFFSETFROM:-0400
TZOFFSETTO:-0500
TZNAME:EST
END:STANDARD
END:VTIMEZONE
END:VCALENDAR