BEGIN:VCALENDAR
VERSION:2.0
PRODID:-//wp-events-plugin.com//7.2.3.1//EN
TZID:America/New_York
X-WR-TIMEZONE:America/New_York
BEGIN:VEVENT
UID:844@breathemiami.us
DTSTART;TZID=America/New_York:20241019T100000
DTEND;TZID=America/New_York:20241026T190000
DTSTAMP:20240910T082330Z
URL:https://breathemiami.us/events/harvest-and-treats/
SUMMARY:Harvest and Treats
DESCRIPTION:Kick off the Halloween season in style at Zoo Miami's exclusive
  Nocturnal: Villains and Vixens event\, set to take place on Saturday\, Oc
 tober 19. This after-hours celebration\, tailored for guests aged 21 and o
 ver\, promises an enchanting evening filled with entertainment\, gourmet d
 ining\, and spectacular performances.\n\nAttendees are encouraged to chann
 el their inner villain or vixen with elaborate costumes as they immerse th
 emselves in a night of:\n\n 	Gourmet Food Stations: Enjoy a diverse array 
 of high-end culinary delights prepared by expert chefs.\n 	Exclusive Cockt
 ails and Premium Beverages: Sip on specially crafted cocktails and premium
  drinks while mingling with fellow partygoers.\n 	Mystical Experiences: En
 gage with tarot card readers and palm readers to uncover your future and g
 ain mystical insights.\n 	Burlesque and Fire Dancing: Be captivated by sul
 try burlesque performances and mesmerizing fire dancers who will light up 
 the night.\n 	Mechanical Spider Ride: Experience the thrill of a unique me
 chanical spider ride that adds an extra touch of excitement.\n 	Costume Co
 ntest: Compete for a chance to win up to $300 in prizes for the most creat
 ive and impressive costumes.\n 	Photo Booth: Capture unforgettable moments
  with themed photo sessions in a specially designed photo booth.\n 	Animal
  Encounters: Enjoy special interactions with select zoo animals\, though m
 any habitats will be closed for this event.\n\nPlease be aware that this e
 vent will feature a limited area of the zoo\, and not all animal exhibits 
 will be accessible. Don’t miss this opportunity to celebrate Halloween i
 n a fantastical setting filled with glamour\, intrigue\, and unforgettable
  experiences. Secure your tickets and prepare for a night of villainous fu
 n and captivating revelry!\n\nGET TICKETS\n
ATTACH;FMTTYPE=image/jpeg:https://breathemiami.us/wp-content/uploads/2024/
 09/Harvest-and-Treats.png
CATEGORIES:Things To Do
LOCATION:Tinez Farms\, 16405 SW 177th Ave.\, Miami\, Florida\, 33187\, FL\,
  United States
X-APPLE-STRUCTURED-LOCATION;VALUE=URI;X-ADDRESS=16405 SW 177th Ave.\, Miami
 \, Florida\, 33187\, FL\, United States;X-APPLE-RADIUS=100;X-TITLE=Tinez F
 arms:geo:0,0
END:VEVENT
BEGIN:VTIMEZONE
TZID:America/New_York
X-LIC-LOCATION:America/New_York
BEGIN:DAYLIGHT
DTSTART:20240310T030000
TZOFFSETFROM:-0500
TZOFFSETTO:-0400
TZNAME:EDT
END:DAYLIGHT
END:VTIMEZONE
END:VCALENDAR