BEGIN:VCALENDAR
VERSION:2.0
PRODID:-//wp-events-plugin.com//7.2.3.1//EN
TZID:America/New_York
X-WR-TIMEZONE:America/New_York
BEGIN:VEVENT
UID:332@breathemiami.us
DTSTART;TZID=America/New_York:20240303T074500
DTEND;TZID=America/New_York:20240303T090000
DTSTAMP:20240907T182741Z
URL:https://breathemiami.us/events/harmonyrise-at-sagamore-monthly-sunrise
 -yoga-experience/
SUMMARY:HarmonyRise at Sagamore: Monthly Sunrise Yoga Experience
DESCRIPTION:Date &amp\; Time: Every first Sunday of the month\, 7:45 AM - 9
 :00 AM\n\nLocation: Sagamore Hotel\, Miami Beach\n\nExperience the Awakeni
 ng: Join us at the iconic Sagamore Hotel in Miami Beach for "HarmonyRise\,
 " a monthly yoga series designed to invigorate your senses and refresh you
 r spirit.\n\nMeet Your Instructor: Veronica Cruz\nBreathe Miami's very own
  Veronica Cruz\, a Miami native and a certified yoga instructor trained by
  Mimi Yoga\, specializes in Vinyasa breath work. With her rich background 
 as a leading interior designer\, Veronica infuses a unique blend of creati
 vity and mindfulness into her yoga practice. Her sessions are transformati
 ve experiences that promote balance\, strength\, and inner harmony. A pass
 ionate advocate for holistic wellness and design\, Veronica inspires parti
 cipants to embark on their own journey towards wellness and self-discovery
 .\n\nBefore the Class: Immerse yourself in an aromatic experience with ess
 ential oils specifically chosen to awaken your senses and prepare your bod
 y and mind for the rejuvenating session ahead.\n\nDuring the Class: Veroni
 ca will guide you through a series of poses designed to align your body\, 
 mind\, and spirit with the rising sun\, making the session suitable for al
 l levels\, from beginners to advanced practitioners.\n\nSpecial Enhancemen
 ts:\n\n 	Lavender Towels: In the final pose\, indulge in a soothing lavend
 er-scented towel treatment to deepen your relaxation for five blissful min
 utes.\n 	Hydration Station: Stay hydrated and refreshed with our infused w
 ater station\, offering a variety of flavors to replenish your body post-y
 oga.\n 	Complimentary Yoga Mats: No need to bring your own mat\; high-qual
 ity yoga mats will be provided for your convenience.\n\nExclusive Gift Bag
 : Elevate your wellness journey with our specially curated gift bag\, feat
 uring:\n\n 	Renewal Oil Blend Roll-On: A solid acupressure roll-on pain re
 lief\, infused with Hemp Extract and botanical herbs to soothe muscles and
  calm the nervous system.\n 	Hemp Infused Lotion: A luxurious body lotion 
 formulated with broad-spectrum organic hemp extract\, leaving your skin so
 ft\, smooth\, and delicately scented.\n\nCrafted with Care: Our products a
 re lovingly crafted in California\, using the finest natural ingredients f
 or a truly holistic experience.\n\nJoin Us: Whether you're seeking to deep
 en your yoga practice\, find a moment of peace\, or simply enjoy a unique 
 experience at one of Miami Beach's most picturesque locations\, "HarmonyRi
 se" promises a morning of tranquility and renewal\, led by the talented Ve
 ronica Cruz.\n\nTickets: Limited spaces available. Secure your spot and em
 brace a morning of serenity and upliftment with us at Sagamore.\n\nConnect
  with Nature\, Connect with Yourself: "HarmonyRise" is more than a yoga cl
 ass\; it's an invitation to reconnect with the natural world and rediscove
 r your inner peace. We look forward to welcoming you to this exclusive mon
 thly series.
ATTACH;FMTTYPE=image/jpeg:https://breathemiami.us/wp-content/uploads/2024/
 02/Featured-Image_Blog_Breathe-Miami-6.jpg
CATEGORIES:Featured Events,Yoga Events
LOCATION:Sagamor\, 1671 Collins Ave\, Miami Beach\, FL\, 33139\, United Sta
 tes
X-APPLE-STRUCTURED-LOCATION;VALUE=URI;X-ADDRESS=1671 Collins Ave\, Miami Be
 ach\, FL\, 33139\, United States;X-APPLE-RADIUS=100;X-TITLE=Sagamor:geo:0,
 0
END:VEVENT
BEGIN:VTIMEZONE
TZID:America/New_York
X-LIC-LOCATION:America/New_York
BEGIN:STANDARD
DTSTART:20231105T010000
TZOFFSETFROM:-0400
TZOFFSETTO:-0500
TZNAME:EST
END:STANDARD
END:VTIMEZONE
END:VCALENDAR