BEGIN:VCALENDAR
VERSION:2.0
PRODID:-//wp-events-plugin.com//7.2.3.1//EN
TZID:America/New_York
X-WR-TIMEZONE:America/New_York
BEGIN:VEVENT
UID:242@breathemiami.us
DTSTART;TZID=America/New_York:20240205T183000
DTEND;TZID=America/New_York:20240205T203000
DTSTAMP:20240218T001808Z
URL:https://breathemiami.us/events/hand-drumming-program-with-jared-bistro
 ng/
SUMMARY:Intro to Hand Drumming Program with Jared Bistrong
DESCRIPTION:Event Information:\n\nEmbark on a transformative journey to lea
 rn the fundamentals of hand drumming\, unlocking the powerful meditative a
 spects that drumming offers for holistic wellness. Immerse yourself in the
  rhythms and beats that resonate not just through the drum but also within
 \, fostering a connection between mind\, body\, and spirit. Join this extr
 aordinary community and discover the therapeutic potential of drumming as 
 a pathway to well-being and self-discovery. Let the heartbeat of the drum 
 guide you into a space of harmony and connection\, where each beat becomes
  a step towards a more balanced and centered existence.\n\nDate and Time:M
 onday\, February 5\, 2024 · 6:30 - 8:30pm EST\n\nAbout this event:\n\n 	E
 mbark on a rhythmic journey and explore the meditative side of drumming fo
 r wellness with the charismatic Jared Bistrong. This 6-week introduction t
 o hand drumming program offers a unique opportunity to delve into the worl
 d of percussion instruments\, focusing on the Djembe drum. Participants wi
 ll learn the history\, techniques\, and exercises for various drums\, embr
 acing traditional and non-traditional rhythms from around the world.\n\nDu
 ration: 2 hour\n\nTicket Information:\n\n 	Mobile eTicket: No physical tic
 kets\; eTickets available for seamless entry.\n 	6-Week Program: Rolling s
 essions recommended for beginners\; drop-in rate reduced after completing 
 the 6-pack. Experienced drummers can opt for drop-in (single session) tick
 ets.\n\n\nGET TICKETS\n\n\nWorkout Session Details:\n\n 	Duration: 6 weeks
  (initial program)\; continued participation at a discounted drop-in rate 
 of $35.\n 	Optional Drop-In: $50/session\; Modern ŌM Members pay $40.\n\n
 Essentials to Bring:\n\n 	Bring Your Own Drum: Participants must bring the
 ir own hand drum. Jared provides sample drums for the first class and assi
 sts in finding a drum.\n\nParking Options:\n\n 	Parking: Metered parking a
 long Upper Buena Vista on NE 2nd Avenue and NE 50th Terrace. Caution: Avoi
 d parking in residential zones to prevent towing.\n
ATTACH;FMTTYPE=image/jpeg:https://breathemiami.us/wp-content/uploads/2023/
 12/https___cdn.evbuc_.com_images_656800239_1145507310493_1_original-2.jpg
CATEGORIES:Wellness Events
LOCATION:Modern ŌM Bungalow\, 5020 Northeast 2nd Avenue\, Miami\, FL\, 331
 37\, United States
X-APPLE-STRUCTURED-LOCATION;VALUE=URI;X-ADDRESS=5020 Northeast 2nd Avenue\,
  Miami\, FL\, 33137\, United States;X-APPLE-RADIUS=100;X-TITLE=Modern ŌM 
 Bungalow:geo:0,0
END:VEVENT
BEGIN:VTIMEZONE
TZID:America/New_York
X-LIC-LOCATION:America/New_York
BEGIN:STANDARD
DTSTART:20231105T010000
TZOFFSETFROM:-0400
TZOFFSETTO:-0500
TZNAME:EST
END:STANDARD
END:VTIMEZONE
END:VCALENDAR