BEGIN:VCALENDAR
VERSION:2.0
PRODID:-//wp-events-plugin.com//7.2.3.1//EN
TZID:America/New_York
X-WR-TIMEZONE:America/New_York
BEGIN:VEVENT
UID:911@breathemiami.us
DTSTART;TZID=America/New_York:20241031T190000
DTEND;TZID=America/New_York:20241101T130000
DTSTAMP:20240926T162530Z
URL:https://breathemiami.us/events/hallowyn-2024-wynwoods-official-free-ha
 lloween-block-party/
SUMMARY:HalloWYN 2024 - Wynwood's Official FREE Halloween Block Party
DESCRIPTION:Prepare for a night of thrills and chills as HalloWYN 2024\, Mi
 ami's biggest and most anticipated Halloween Block Party\, takes over the 
 heart of Wynwood for its 11th unforgettable year! On Thursday\, October 31
 st\, the lively streets of Wynwood will transform into a Halloween haven\,
  drawing in thousands of costumed partygoers ready for a night of eerie ex
 citement and festive fun.\n\nThis free event promises an electrifying atmo
 sphere filled with spooky vibes\, eye-catching decorations\, and a hauntin
 gly good time for all. Whether you're donning a scary costume\, a creative
  ensemble\, or just soaking up the energy\, HalloWYN offers an immersive e
 xperience that captures the essence of Halloween in the most vibrant way.\
 n\nExpect a thrilling mix of live music\, DJ performances\, and interactiv
 e art installations\, all perfectly tailored to heighten the spooky festiv
 ities. Dance the night away\, snap photos of incredible costumes\, and enj
 oy the unique blend of creativity and culture that Wynwood is known for.\n
 \nWith food trucks\, local vendors\, and bars serving up your favorite Hal
 loween-themed treats and cocktails\, there's no shortage of ways to indulg
 e your senses. HalloWYN 2024 will also feature costume contests\, giving p
 articipants the chance to show off their best Halloween looks and compete 
 for exciting prizes.\n\nAs Miami's ultimate Halloween destination\, this b
 lock party promises something for everyone—whether you're a longtime att
 endee or a first-time visitor\, this is a night you won’t want to miss. 
 Get ready to celebrate with a community of fellow revelers in an atmospher
 e buzzing with spooky energy and non-stop fun.\n\nMark your calendars\, ga
 ther your friends\, and brace yourself for HalloWYN 2024—a Halloween cel
 ebration unlike any other!\n\nGET TICKETS\n
ATTACH;FMTTYPE=image/jpeg:https://breathemiami.us/wp-content/uploads/2024/
 09/HalloWYN-2024-Wynwoods-Official-FREE-Halloween-Block-Party.jpg
CATEGORIES:Things To Do,Wellness Events
LOCATION:The Wynwood Marketplace\, 2250 NW 2nd Ave\, Miami\, Florida\, FL 3
 3127\, United States
X-APPLE-STRUCTURED-LOCATION;VALUE=URI;X-ADDRESS=2250 NW 2nd Ave\, Miami\, F
 lorida\, FL 33127\, United States;X-APPLE-RADIUS=100;X-TITLE=The Wynwood M
 arketplace:geo:0,0
END:VEVENT
BEGIN:VTIMEZONE
TZID:America/New_York
X-LIC-LOCATION:America/New_York
BEGIN:DAYLIGHT
DTSTART:20240310T030000
TZOFFSETFROM:-0500
TZOFFSETTO:-0400
TZNAME:EDT
END:DAYLIGHT
END:VTIMEZONE
END:VCALENDAR