BEGIN:VCALENDAR
VERSION:2.0
PRODID:-//wp-events-plugin.com//7.2.3.1//EN
TZID:America/New_York
X-WR-TIMEZONE:America/New_York
BEGIN:VEVENT
UID:850@breathemiami.us
DTSTART;TZID=America/New_York:20241026T073000
DTEND;TZID=America/New_York:20241027T103000
DTSTAMP:20240910T110930Z
URL:https://breathemiami.us/events/halloween-trick-or-trot-5k-10k-13-1-mia
 mi/
SUMMARY:Halloween Trick or Trot 5K/10K/13.1 MIAMI
DESCRIPTION:Join the spooky fun at the annual Halloween Trick or Trot\, whe
 re fitness meets festive fright! Whether you're up for a 5K\, 10K\, or a 1
 3.1-mile half-marathon\, this event offers a unique way to celebrate Hallo
 ween. And yes\, there’s even some Halloween candy waiting for you at the
  finish line!\n\nEvent Overview: This race is expected to sell out quickly
 \, with only 15-20 participants per wave to ensure a more personalized\, p
 rivate running experience. Participants of all ages and paces are welcome\
 , including walkers and runners. Those under 18 must be accompanied by a g
 uardian. If the in-person slots fill up\, there's always the option to joi
 n the virtual run or get on the waitlist.\n\nEvent Timing: This is a stres
 s-free run designed to help you meet your fitness goals!\n\n 	No official 
 timing chips are used.\n 	Optional timing can be managed with the help of 
 our coordinators\, who will assist you in tracking your start and finish t
 imes using your race bib.\n\nWhat’s Included: Participants will receive 
 a Swag Bag full of goodies\, including:\n\n 	A Running T-Shirt shipped dir
 ectly to your address (U.S. only)\n 	A Finisher’s Towel or another fun g
 iveaway\n 	A Finisher’s Medal (emailed post-race)\n 	A Training Pack and
  other free giveaways\n 	Option to upgrade to a Technical Running Shirt fo
 r just $5 more\, made with moisture-wicking fabric to keep you cool while 
 running\n 	A free trial of the RUNNA Coaching Program\, offering tailored 
 plans to help you reach your running goals\, from mastering the 5K to prep
 aring for your first marathon (Use code: BESTRACES)\n\nPacket Pickup: No n
 eed to worry about pre-race packet pickup! Your swag will be shipped direc
 tly to your address\, and you’ll receive your race bib on the day of the
  event.\n\nWhen Will You Get Your Swag? Expect to receive your race shirt 
 and other goodies the week of the event at the mailing address you registe
 red with.\n\nDon’t miss out on the chance to combine fitness and fright
 —sign up now and enjoy a spooky\, healthy Halloween run!\n\nGET TICKETS\
 n
ATTACH;FMTTYPE=image/jpeg:https://breathemiami.us/wp-content/uploads/2024/
 09/Halloween-Trick-or-Trot.jpg
CATEGORIES:Things To Do
LOCATION:Playita\, Playita Key Biscayne\, Miami\, Florida\, 33149\, FL\, Un
 ited States
X-APPLE-STRUCTURED-LOCATION;VALUE=URI;X-ADDRESS=Playita Key Biscayne\, Miam
 i\, Florida\, 33149\, FL\, United States;X-APPLE-RADIUS=100;X-TITLE=Playit
 a:geo:0,0
END:VEVENT
BEGIN:VTIMEZONE
TZID:America/New_York
X-LIC-LOCATION:America/New_York
BEGIN:DAYLIGHT
DTSTART:20240310T030000
TZOFFSETFROM:-0500
TZOFFSETTO:-0400
TZNAME:EDT
END:DAYLIGHT
END:VTIMEZONE
END:VCALENDAR