BEGIN:VCALENDAR
VERSION:2.0
PRODID:-//wp-events-plugin.com//7.2.3.1//EN
TZID:America/New_York
X-WR-TIMEZONE:America/New_York
BEGIN:VEVENT
UID:134@breathemiami.us
DTSTART;TZID=America/New_York:20231027T190000
DTEND;TZID=America/New_York:20231027T230000
DTSTAMP:20231014T184422Z
URL:https://breathemiami.us/events/halloween-haunted-trails-and-kids-zone/
SUMMARY:Halloween Haunted Trails and Kids Zone
DESCRIPTION:Kickstart your Halloween weekend with a spine-tingling adventur
 e by embarking on a haunting journey through the eerie paths of North Miam
 i's Enchanted Forest Park on the evening of Friday\, October 27th. This ev
 ent promises thrills and chills for all ages\, making it the perfect oppor
 tunity to gather your entire family for an unforgettable experience. Explo
 re the ominous depths of the woods as you hop onto the hair-raising hayrid
 es and venture down the spine-chilling haunted trails.\n\nPrepare to be ca
 ptivated by a plethora of ghoulish entertainment that will keep you on the
  edge of your seat. Satisfy your taste buds with delicious offerings from 
 local food vendors\, all while immersing yourself in the eerie atmosphere.
  For the little ones\, the Family Fun Zone awaits\, brimming with delightf
 ul activities such as a lively costume parade\, enchanting pony rides\, fo
 ot-tapping music\, and engaging games.\n\nIt's not just encouraged but pra
 ctically required to get into the Halloween spirit by donning your most sp
 ooktacular costumes. This Halloween rendezvous at Enchanted Forest Park is
  your ultimate ticket to an enchanting\, family-friendly\, and downright e
 erie start to a weekend that promises memories to last a lifetime.\n\nGet 
 Tickets!
ATTACH;FMTTYPE=image/jpeg:https://breathemiami.us/wp-content/uploads/2023/
 10/https___cdn.evbuc_.com_images_588485179_177345092142_1_original.jpg
LOCATION:Enchanted Forest Elaine Gordon Park\, 1725 Northeast 135th Street 
 North Miami\, Miami\, Florida\, FL 33181\, United States
X-APPLE-STRUCTURED-LOCATION;VALUE=URI;X-ADDRESS=1725 Northeast 135th Street
  North Miami\, Miami\, Florida\, FL 33181\, United States;X-APPLE-RADIUS=1
 00;X-TITLE=Enchanted Forest Elaine Gordon Park:geo:0,0
END:VEVENT
BEGIN:VTIMEZONE
TZID:America/New_York
X-LIC-LOCATION:America/New_York
BEGIN:DAYLIGHT
DTSTART:20230312T030000
TZOFFSETFROM:-0500
TZOFFSETTO:-0400
TZNAME:EDT
END:DAYLIGHT
END:VTIMEZONE
END:VCALENDAR