BEGIN:VCALENDAR
VERSION:2.0
PRODID:-//wp-events-plugin.com//7.2.3.1//EN
TZID:America/New_York
X-WR-TIMEZONE:America/New_York
BEGIN:VEVENT
UID:848@breathemiami.us
DTSTART;TZID=America/New_York:20241026T200000
DTEND;TZID=America/New_York:20241027T010000
DTSTAMP:20240910T095922Z
URL:https://breathemiami.us/events/halloween-at-the-biltmore/
SUMMARY:Halloween at The Biltmore
DESCRIPTION:Prepare for a night of enchanting mystery and thrilling fun at 
 The Biltmore’s annual Halloween Party! Dress to impress in your most ima
 ginative disguise\, but keep a sharp eye on your fellow revelers\, as surp
 rises await around every corner.\n\nEvent Highlights:\n\n 	Dinner and Danc
 ing: Enjoy a sumptuous dinner while dancing the night away.\n 	Open Bar: S
 ip on a selection of beverages from our open bar.\n 	Costume Contest: Show
 case your creativity and compete in the costume contest with the following
  categories:\n\n 	Best Couple: Show off your synchronized costumes for a c
 hance to win.\n 	Most Creative: Impress with a handmade costume that stand
 s out from the rest.\n 	Best Group: Collaborate with up to five friends fo
 r a memorable group ensemble.\n\n\n\nBe sure to register for the costume c
 ontest when you purchase your tickets. Winners will receive exclusive Bilt
 more certificates\, presented during the event.\n\nCulinary Delights:\n\nT
 he menu will feature an array of food stations offering delectable dishes 
 and a selection of desserts to satisfy every palate.\n\nJoin us for an unf
 orgettable evening of glamour\, excitement\, and Halloween magic at The Bi
 ltmore!\n\nGET TICKETS\n
ATTACH;FMTTYPE=image/jpeg:https://breathemiami.us/wp-content/uploads/2024/
 09/Halloween-at-The-Biltmore.jpg
CATEGORIES:Things To Do
LOCATION:The Biltmore Hotel Coral Gables\, 1200 Anastasia Avenue Country Cl
 ub Ballroom Coral Gables\, Miami\, Florida\, 33134\, FL\, United States
X-APPLE-STRUCTURED-LOCATION;VALUE=URI;X-ADDRESS=1200 Anastasia Avenue Count
 ry Club Ballroom Coral Gables\, Miami\, Florida\, 33134\, FL\, United Stat
 es;X-APPLE-RADIUS=100;X-TITLE=The Biltmore Hotel Coral Gables:geo:0,0
END:VEVENT
BEGIN:VTIMEZONE
TZID:America/New_York
X-LIC-LOCATION:America/New_York
BEGIN:DAYLIGHT
DTSTART:20240310T030000
TZOFFSETFROM:-0500
TZOFFSETTO:-0400
TZNAME:EDT
END:DAYLIGHT
END:VTIMEZONE
END:VCALENDAR