BEGIN:VCALENDAR
VERSION:2.0
PRODID:-//wp-events-plugin.com//7.2.3.1//EN
TZID:America/New_York
X-WR-TIMEZONE:America/New_York
BEGIN:VEVENT
UID:166@breathemiami.us
DTSTART;TZID=America/New_York:20240128T000000
DTEND;TZID=America/New_York:20240128T000000
DTSTAMP:20231228T215950Z
URL:https://breathemiami.us/events/half-marathon-miami/
SUMMARY:Half Marathon Miami
DESCRIPTION:The Life Time Miami Marathon &amp\; Half Marathon\, a premier e
 ndurance event\, will make its 22nd return on January 28\, 2024. Drawing p
 articipants from over 80 countries and all 50 states\, this event features
  a 26.2-mile marathon and a 13.1-mile half marathon winding through the ci
 ty. The stunning racecourse has firmly established the Miami Marathon and 
 Half Marathon as a sought-after destination race for international runners
 .\n\nThis event is not only a thrilling experience for the athletes compet
 ing but also a captivating spectacle for the early morning spectators who 
 line the streets. With drums\, signs\, and well-wishes\, they enthusiastic
 ally cheer on their friends and family. From newcomers seeking to test the
 ir endurance to seasoned runners aiming to surpass their personal records\
 , this event showcases athletes with inspiring narratives.\n\nMiami Marath
 on co-founder Frankie Ruiz noted\, "It has evolved into one of Miami's hal
 lmark events\, appealing to both locals and visitors alike. One of the mos
 t alluring aspects of participating in this race is the opportunity to con
 nect with a multitude of people and the city simultaneously\, fostering a 
 unique bond."\nHalf Marathon Course\n\n\nThe Miami race features a USATF-c
 ertified course\, which is a flat and scenic single loop highlighting Miam
 i's most iconic landmarks and stunning vistas.\n\nFrankie Ruiz\, one of th
 e race organizers\, described it as a route you'd take to showcase the ess
 ence of Miami to a friend or family member. Starting in Downtown Miami\, r
 ight in front of the Kaseya Center (home to the Miami Heat)\, both maratho
 n and half marathon participants commence together. They share the same pi
 cturesque journey for the first 12.8 miles\, crossing the MacArthur Causew
 ay to Miami Beach while the sun rises over the Atlantic Ocean. Then\, they
  proceed along the famous Ocean Drive and Washington Avenue before returni
 ng to Downtown via the scenic Venetian Causeway.\n\nWhen it's time for the
  half marathon runners to head for the finish line at Bayfront Park\, the 
 marathoners continue their course\, exploring Downtown and beloved local n
 eighborhoods like Brickell\, Key Biscayne\, and Coconut Grove. Eventually\
 , they circle back towards the finish line at Bayfront Park. At the finish
  line\, all runners are rewarded with a distinct\, artist-designed medal a
 nd can partake in a lively post-race celebration.\n\n&nbsp\;\n\n&nbsp\;\n\
 nLearn more\n\n\n\n\n\n
ATTACH;FMTTYPE=image/jpeg:https://breathemiami.us/wp-content/uploads/2023/
 11/IMG_3380B_ColorFill-2048x1512-1.jpg
CATEGORIES:Sports &amp; Fitness Events,Things To Do,Wellness Events
LOCATION:FTX Arena\, 601 Biscayne Blvd\, Miami\, Florida\, 33132\, United S
 tates
X-APPLE-STRUCTURED-LOCATION;VALUE=URI;X-ADDRESS=601 Biscayne Blvd\, Miami\,
  Florida\, 33132\, United States;X-APPLE-RADIUS=100;X-TITLE=FTX Arena:geo:
 0,0
END:VEVENT
BEGIN:VTIMEZONE
TZID:America/New_York
X-LIC-LOCATION:America/New_York
BEGIN:STANDARD
DTSTART:20231105T010000
TZOFFSETFROM:-0400
TZOFFSETTO:-0500
TZNAME:EST
END:STANDARD
END:VTIMEZONE
END:VCALENDAR