BEGIN:VCALENDAR
VERSION:2.0
PRODID:-//wp-events-plugin.com//7.2.3.1//EN
TZID:America/New_York
X-WR-TIMEZONE:America/New_York
BEGIN:VEVENT
UID:262@breathemiami.us
DTSTART;TZID=America/New_York:20240101T110000
DTEND;TZID=America/New_York:20240101T130000
DTSTAMP:20231227T203316Z
URL:https://breathemiami.us/events/half-day-wellness-experience/
SUMMARY:"Renew you" Half-Day Wellness Experience
DESCRIPTION:Event Information:\n\n\n\n\n\n\n\n\n\n\n\n\n\nDive into an imme
 rsive journey tailored to revitalize your essence — a rejuvenating exper
 ience meticulously crafted to refresh not only your body but also your min
 d and spirit. This extraordinary encounter is a harmonious blend of wellne
 ss practices aimed at creating a holistic sense of renewal. Picture a tape
 stry of revitalizing moments\, carefully woven to provide a sanctuary for 
 your mind\, a recharge for your body\, and a rejuvenation of your spirit. 
 Allow yourself to be enveloped in the transformative embrace of this exper
 ience\, where each element is carefully orchestrated to lead you on a path
  of renewal and well-being.\n\n\n\n\n\n\n\n\n\n\n\n\n\nDate and Time:Monda
 y\, January 1\, 2024 · 11am - 1pm EST\n\nAbout this event:\n\n 	Immerse y
 ourself in a transformative journey into the New Year with our "ReNew You"
  half-day retreat at the Carillon Miami Wellness Resort. This rejuvenating
  experience is meticulously crafted to refresh your mind\, invigorate your
  body\, and uplift your spirit. From revitalizing yoga sessions to guided 
 meditation\, every moment is designed to help you leave the past behind an
 d step into the future with a renewed sense of purpose. Embrace this oppor
 tunity to set positive intentions for the upcoming year. Join us for a cel
 ebration of self-renewal\, welcoming the New Year with open hearts and rev
 italized energy.\n\nTotal Duration: 2 hour\n\n Ticket Information:\n\n 	S
 tandard Ticket:\n\n 	Access to the entire half-day wellness experience.\n 
 	Mobile eTicket for seamless entry.\n\n\n 	VIP Ticket (Limited Availabilit
 y):\n\n 	Exclusive access to additional wellness amenities.\n 	Priority se
 ating and special perks during the experience.\n 	Souvenir wellness kit.\n
 \n\n\n\nGET TICKETS\n\n\nWorkout Session Details:\n\n 	Engage in a variety
  of rejuvenating activities during the "ReNew You" half-day retreat. The e
 xample agenda includes:\n\n 	11:00 am - Welcome Ceremony &amp\; Intention 
 Setting\n 	11:30 am - Cacao Ceremony &amp\; Breathwork\n 	12:30 pm - Sound
  Healing &amp\; Closing\n 	1:00 pm - Spa &amp\; Resort Relaxation\, Therma
 l Circuits\, Beach Access &amp\; Beach Chair\n\n\n\nEssentials to Bring:\n
 \n 	Comfortable clothing suitable for yoga and meditation.\n 	Personal wat
 er bottle for hydration.\n 	A beach towel or mat for outdoor activities.\n
 \nParking Options:\n\n 	For parking details\, please check with Carillon M
 iami Wellness Resort or refer to the event map.Note: Join the Conscious Br
 eathwork Journey &amp\; Intentions for 2024 group for an additional $189 p
 er person.Embark on this half-day wellness retreat\, embracing the opportu
 nity to renew and rejuvenate as you step into the New Year with positivity
  and purpose. We look forward to celebrating the journey of self-renewal w
 ith you.\n
ATTACH;FMTTYPE=image/jpeg:https://breathemiami.us/wp-content/uploads/2023/
 12/https___cdn.evbuc_.com_images_659449729_562332624613_1_original.jpg
CATEGORIES:Things To Do,Wellness Events
LOCATION:Carillon Miami Wellness Resor\, Carillon Miami Wellness Resort  68
 01 Collins Avenue Miami Beach\, FL 33141 United States\,  Miami Beach\, Un
 ited States\, 33141\,  FL \, United States
X-APPLE-STRUCTURED-LOCATION;VALUE=URI;X-ADDRESS=Carillon Miami Wellness Res
 ort  6801 Collins Avenue Miami Beach\, FL 33141 United States\,  Miami Bea
 ch\, United States\, 33141\,  FL \, United States;X-APPLE-RADIUS=100;X-TIT
 LE=Carillon Miami Wellness Resor:geo:0,0
END:VEVENT
BEGIN:VTIMEZONE
TZID:America/New_York
X-LIC-LOCATION:America/New_York
BEGIN:STANDARD
DTSTART:20231105T010000
TZOFFSETFROM:-0400
TZOFFSETTO:-0500
TZNAME:EST
END:STANDARD
END:VTIMEZONE
END:VCALENDAR