BEGIN:VCALENDAR
VERSION:2.0
PRODID:-//wp-events-plugin.com//7.2.3.1//EN
TZID:America/New_York
X-WR-TIMEZONE:America/New_York
BEGIN:VEVENT
UID:1001@breathemiami.us
DTSTART;TZID=America/New_York:20241020T190000
DTEND;TZID=America/New_York:20241020T200000
DTSTAMP:20241003T200524Z
URL:https://breathemiami.us/events/group-acupuncture/
SUMMARY:Group Acupuncture
DESCRIPTION:Group acupuncture offers a unique opportunity for individuals t
 o come together in a shared healing journey\, facilitated by the expertise
  of Lori\, a skilled acupuncturist. This collective experience is designed
  to tap into the extraordinary energy vessels within the body\, promoting 
 deep relaxation and healing.\n\nLori employs astrological insights to tail
 or the acupuncture session\, selecting the most beneficial treatment vesse
 l based on the current celestial alignments. By harmonizing the acupunctur
 e practice with the stars\, she enhances the effectiveness of the treatmen
 t\, creating a profound connection between the participants and the cosmos
 .\n\nDuring the session\, each participant is treated to the same four acu
 puncture points\, specifically chosen to activate the designated vessel. T
 his focused approach not only enhances individual healing but also fosters
  a sense of unity and shared experience among the group. As the acupunctur
 e points are stimulated\, participants can experience a heightened awarene
 ss of their relationship with themselves and their environment\, allowing 
 for a deeper understanding of how they interact with the world around them
 .\n\nThrough this communal practice\, participants are encouraged to refle
 ct on their movements\, perceptions\, and emotional responses to external 
 stimuli. Group acupuncture serves as a powerful reminder of the interconne
 ctedness of all beings and the collective healing potential that arises wh
 en individuals come together in a supportive environment.\n\nBy engaging i
 n this celestial-inspired acupuncture experience\, attendees can expect to
  leave feeling rejuvenated\, centered\, and more attuned to both their inn
 er selves and the energies that influence their lives. This unique approac
 h to acupuncture not only promotes physical well-being but also cultivates
  a deeper connection to the universe and the relationships we share within
  it.\n\nGET TICKETS\n
ATTACH;FMTTYPE=image/jpeg:https://breathemiami.us/wp-content/uploads/2024/
 10/Group-Acupuncture.jpg
CATEGORIES:Things To Do,Wellness Events
LOCATION:The Standard Spa\, 40 Island Avenue Miami Beach\, Miami\, Florida\
 , 33139\, FL\, United States
X-APPLE-STRUCTURED-LOCATION;VALUE=URI;X-ADDRESS=40 Island Avenue Miami Beac
 h\, Miami\, Florida\, 33139\, FL\, United States;X-APPLE-RADIUS=100;X-TITL
 E=The Standard Spa:geo:0,0
END:VEVENT
BEGIN:VTIMEZONE
TZID:America/New_York
X-LIC-LOCATION:America/New_York
BEGIN:DAYLIGHT
DTSTART:20240310T030000
TZOFFSETFROM:-0500
TZOFFSETTO:-0400
TZNAME:EDT
END:DAYLIGHT
END:VTIMEZONE
END:VCALENDAR