BEGIN:VCALENDAR
VERSION:2.0
PRODID:-//wp-events-plugin.com//7.2.3.1//EN
TZID:America/New_York
X-WR-TIMEZONE:America/New_York
BEGIN:VEVENT
UID:439@breathemiami.us
DTSTART;TZID=America/New_York:20240502T180000
DTEND;TZID=America/New_York:20240502T190000
DTSTAMP:20240416T230932Z
URL:https://breathemiami.us/events/good-karma-yoga/
SUMMARY:GOOD KARMA YOGA with PAPA GURU
DESCRIPTION:\nUnleash Your Inner Bliss: Good Karma Yoga at Bayfront Park\nC
 alling all yogis and aspiring yogis! Unwind and reconnect with yourself at
  Good Karma Yoga\, led by the experienced Papa Guru (Nicolay).\nUnique Flo
 ws for Every Soul:\nEach class\, held Mondays at 6pm and Wednesdays at 7pm
  in Bayfront Park\, is a unique experience tailored to your body and soul'
 s needs. No two classes are the same\, ensuring a fresh and dynamic practi
 ce each time.\nHarmony with Nature:\nGood Karma Yoga embraces the beauty o
 f the outdoors. Move your body in sync with nature's rhythm\, surrounded b
 y fresh air and calming scenery. Immerse yourself in a truly holistic yoga
  experience.\nMusic to Move You:\nUplifting music sets the tone for your p
 ractice\, guiding your movements and amplifying the positive energy of the
  class.\nMore Than Just Yoga:\nGood Karma Yoga fosters a welcoming environ
 ment where lasting connections are made. Whether you find new friends\, pa
 rtners\, or even spouses\, this supportive community adds an extra dimensi
 on to your practice.\nEmbrace the Journey:\nJoin Good Karma Yoga and embar
 k on a transformative journey of self-discovery\, improved well-being\, an
 d lasting connections.\nUnleash your inner bliss and experience the Good K
 arma difference!\nReady to get started? Find your perfect class at Bayfron
 t Park.\n\n\n\nBOOK SPOTS\n
ATTACH;FMTTYPE=image/jpeg:https://breathemiami.us/wp-content/uploads/2024/
 04/https___cdn.evbuc_.com_images_656892809_101147920649_1_original.jpeg
CATEGORIES:Wellness Events
LOCATION:Maurice A. Ferré Park\, 1075 Biscayne Boulevard\, Miami\, Florida
 \, 33132\, United States
X-APPLE-STRUCTURED-LOCATION;VALUE=URI;X-ADDRESS=1075 Biscayne Boulevard\, M
 iami\, Florida\, 33132\, United States;X-APPLE-RADIUS=100;X-TITLE=Maurice 
 A. Ferré Park:geo:0,0
END:VEVENT
BEGIN:VTIMEZONE
TZID:America/New_York
X-LIC-LOCATION:America/New_York
BEGIN:DAYLIGHT
DTSTART:20240310T030000
TZOFFSETFROM:-0500
TZOFFSETTO:-0400
TZNAME:EDT
END:DAYLIGHT
END:VTIMEZONE
END:VCALENDAR