BEGIN:VCALENDAR
VERSION:2.0
PRODID:-//wp-events-plugin.com//7.2.3.1//EN
TZID:America/New_York
X-WR-TIMEZONE:America/New_York
BEGIN:VEVENT
UID:458@breathemiami.us
DTSTART;TZID=America/New_York:20240513T180000
DTEND;TZID=America/New_York:20240513T190000
DTSTAMP:20240430T194952Z
URL:https://breathemiami.us/events/good-karma-yoga-with-papa-guru/
SUMMARY:GOOD KARMA YOGA with PAPA GURU
DESCRIPTION:\nUnwind\, Connect\, and Find Your Bliss with Good Karma Yoga a
 t Bayfront Park\nSeeking a yoga experience that nourishes both your body a
 nd soul? Look no further than Good Karma Yoga with Papa Guru (Nicolay) at 
 Bayfront Park!\nUnique Flows for Every Soul:\nPapa Guru\, a seasoned yoga 
 instructor with over 20 years of experience\, tailors each class to meet t
 he specific needs of his students. No two classes are ever the same\, ensu
 ring a fresh and dynamic experience every time you step onto the mat.\nEmb
 race the Harmony:\nGood Karma Yoga goes beyond the physical practice. Here
 's what sets us apart:\n\n\n 	The Power of Nature: Immerse yourself in the
  beauty of Bayfront Park as you move your body in sync with nature's rhyth
 m. Fresh air\, calming scenery\, and the gentle sounds of the outdoors cre
 ate a truly holistic experience.\n 	Music that Moves You: Uplifting music 
 sets the tone for your practice\, guiding your movements and amplifying th
 e positive energy of the class.\n 	A Community that Uplifts: Good Karma Yo
 ga fosters a welcoming and supportive environment. You'll connect with lik
 e-minded individuals\, potentially forging lasting friendships\, partnersh
 ips\, or even finding love. Come be a part of our vibrant community!\n\nMo
 re Than Just Asanas:\nGood Karma Yoga is a journey of self-discovery that 
 extends beyond the physical postures. Here\, you'll cultivate:\n\n\n 	Inne
 r Peace: Find deeper relaxation and reduce stress through mindful movement
  and breathwork.\n 	Physical Wellbeing: Strengthen your body\, improve fle
 xibility\, and enhance your overall physical health.\n 	A Sense of Connect
 ion: Connect with yourself\, nature\, and the supportive community around 
 you.\n\nReady to Experience the Good Karma Difference?\nJoin us for a Good
  Karma Yoga class at Bayfront Park! Whether you're a seasoned yogi or a cu
 rious beginner\, we welcome you with open arms. Come discover the joy of m
 ovement\, the beauty of nature\, and the power of connection.\nClass Sched
 ule:\n\n\n 	Mondays at 6:00 PM\n 	Wednesdays at 7:00 PM\n\nDon't miss out 
 on this opportunity to transform your yoga practice and find your path to 
 inner peace and well-being. See you on the mat!\n\n\n\nBOOK SPOTS\n
ATTACH;FMTTYPE=image/jpeg:https://breathemiami.us/wp-content/uploads/2024/
 04/https___cdn.evbuc_.com_images_493939979_101147920649_1_original.jpeg
CATEGORIES:Wellness Events
LOCATION:Maurice A. Ferré Park\, 1075 Biscayne Boulevard\, Miami\, Florida
 \, 33132\, United States
X-APPLE-STRUCTURED-LOCATION;VALUE=URI;X-ADDRESS=1075 Biscayne Boulevard\, M
 iami\, Florida\, 33132\, United States;X-APPLE-RADIUS=100;X-TITLE=Maurice 
 A. Ferré Park:geo:0,0
END:VEVENT
BEGIN:VTIMEZONE
TZID:America/New_York
X-LIC-LOCATION:America/New_York
BEGIN:DAYLIGHT
DTSTART:20240310T030000
TZOFFSETFROM:-0500
TZOFFSETTO:-0400
TZNAME:EDT
END:DAYLIGHT
END:VTIMEZONE
END:VCALENDAR