BEGIN:VCALENDAR
VERSION:2.0
PRODID:-//wp-events-plugin.com//7.2.3.1//EN
TZID:America/New_York
X-WR-TIMEZONE:America/New_York
BEGIN:VEVENT
UID:891@breathemiami.us
DTSTART;TZID=America/New_York:20240919T190000
DTEND;TZID=America/New_York:20240919T210000
DTSTAMP:20240917T095756Z
URL:https://breathemiami.us/events/goddess-awakening-with-akasha/
SUMMARY:Goddess Awakening with Akasha
DESCRIPTION:Experience an enchanting evening of spiritual exploration and s
 isterhood at the Goddess Awakening Circle\, guided by the luminous Akasha.
  This monthly gathering at The Peacemaker Studio offers women a sacred spa
 ce to connect deeply with their inner goddess.\n\nOn September 19th\, atte
 ndees will embark on a transformative journey dedicated to reclamation and
  empowerment. The evening will be filled with guided meditations\, shared 
 rituals\, and heartfelt conversations\, all designed to tap into and celeb
 rate the divine feminine energy within each participant. This circle provi
 des a nurturing environment for reclaiming inner strength\, celebrating un
 ique gifts\, and building meaningful connections with like-minded women.\n
 \nLed by Akasha\, a revered spiritual guide\, this session promises an eve
 ning of profound self-discovery and community bonding. Whether one is a se
 asoned practitioner or new to exploring the divine feminine\, this circle 
 welcomes all who are eager to honor their inner goddess and foster the bon
 ds of sisterhood.\n\nParticipants are encouraged to come with an open hear
 t\, ready to leave feeling renewed\, supported\, and deeply connected to t
 heir divine essence. The Goddess Awakening Circle is a unique opportunity 
 to immerse oneself in a sacred space of personal and collective growth.\n\
 nGET TICKETS\n
ATTACH;FMTTYPE=image/jpeg:https://breathemiami.us/wp-content/uploads/2024/
 09/Goddess-Awakening-with-Akasha.jpg
CATEGORIES:Things To Do,Wellness Events
LOCATION:The Peacemaker\, 8100 Southwest 81st Drive #suite 275 \, Miami\, F
 lorida\, 33143\, FL\, United States
X-APPLE-STRUCTURED-LOCATION;VALUE=URI;X-ADDRESS=8100 Southwest 81st Drive #
 suite 275 \, Miami\, Florida\, 33143\, FL\, United States;X-APPLE-RADIUS=1
 00;X-TITLE=The Peacemaker:geo:0,0
END:VEVENT
BEGIN:VTIMEZONE
TZID:America/New_York
X-LIC-LOCATION:America/New_York
BEGIN:DAYLIGHT
DTSTART:20240310T030000
TZOFFSETFROM:-0500
TZOFFSETTO:-0400
TZNAME:EDT
END:DAYLIGHT
END:VTIMEZONE
END:VCALENDAR